BEGIN:VCALENDAR
VERSION:2.0
PRODID:-//wp-events-plugin.com//7.2.3.1//EN
TZID:America/New_York
X-WR-TIMEZONE:America/New_York
BEGIN:VEVENT
UID:151890@kingstonhappenings.org
DTSTART;TZID=America/New_York:20250927T190000
DTEND;TZID=America/New_York:20250927T220000
DTSTAMP:20250922T145213Z
URL:https://kingstonhappenings.org/events/miz-markleys-vocal-showcase/
SUMMARY:Miz Markley’s Vocal Showcase
DESCRIPTION:Vocalist/teacher Lisa Markley showcases 9 of her students' voca
 l talents back by pianist Paul Duffy and bassist Lew Scott. Lisa may even 
 sing a few herself.\n\nCome enjoy music from the American songbook and me
 et a lot of nice people while enjoying a delicious meal/dessert or your fa
 vorite cocktails.\n\n&nbsp\;\n\nJoin us for dinner and drinks including 
 “the best duck in the Hudson Valley”\n\nSuggested $20 donation for mus
 ic\n\nReservations are recommended – call 845-687-NERD (6373)
ATTACH;FMTTYPE=image/jpeg:https://kingstonhappenings.org/wp-content/upload
 s/2025/09/2025.09.27_Markley.ai_.jpg
CATEGORIES:@Featured,@Newsletter,Music
LOCATION:Lydia's Cafe\, 7 Old U.S. 209\, Stone Ridge\, New York\, United St
 ates
GEO:41.8306145;-74.17658890000001
X-APPLE-STRUCTURED-LOCATION;VALUE=URI;X-ADDRESS=7 Old U.S. 209\, Stone Ridg
 e\, New York\, United States;X-APPLE-RADIUS=100;X-TITLE=Lydia's Cafe:geo:4
 1.8306145,-74.17658890000001
END:VEVENT
BEGIN:VTIMEZONE
TZID:America/New_York
X-LIC-LOCATION:America/New_York
BEGIN:DAYLIGHT
DTSTART:20250309T030000
TZOFFSETFROM:-0500
TZOFFSETTO:-0400
TZNAME:EDT
END:DAYLIGHT
END:VTIMEZONE
END:VCALENDAR