BEGIN:VCALENDAR
VERSION:2.0
PRODID:-//wp-events-plugin.com//7.2.3.1//EN
TZID:America/New_York
X-WR-TIMEZONE:America/New_York
BEGIN:VEVENT
UID:153318@kingstonhappenings.org
DTSTART;TZID=America/New_York:20260103T190000
DTEND;TZID=America/New_York:20260103T190000
DTSTAMP:20251229T153232Z
URL:https://kingstonhappenings.org/events/misty-mountain-ramblers-colony/
SUMMARY:Misty Mountain Ramblers @ Colony
DESCRIPTION:One day early in the dark days of the great pandemic a few of u
 s were getting pretty bored and decided to get together and jam a bit - sa
 fely distanced\, of course. It was fun so we did it again\, and again\, it
  was fun AND it sounded pretty good too. So we decided to be a band and ma
 ke a song list and rehearse and play some gigs. Nothing too ambitious. We 
 weren't planning on playing any Grateful Dead songs but somehow they snuck
  into our repertoire anyway. Sneaky bastards. Now we have a couple of year
 s worth of gigs under our belts\, playing songs by Dylan\, The Band\, Allm
 an Brothers\, Traffic\, The Beatles\, Dr. John\, Tom Petty\, Phish\, Pink 
 Floyd\, Elvis Costello\, Bruce Cockburn\, and even Grand Master Flash and 
 Patti Smith. Oh yeah\, and the good ol' Grateful Dead.\nDenise Parent (dru
 ms\, vocals) plays in so many bands she sometimes has more than one gig in
  a single day. She plays drums in her long-standing Hudson Valley based ba
 nd\, The Deadbeats. She also plays drums in Brown Eyed Women\, an all fema
 le tribute to the Grateful Dead that tours frequently\, attracting well-de
 served national attention. She fills her "spare time" (haha) playing guita
 r in the Deadbeats Duo. Phew! You may ask\, "Where does she find the time?
 " It's a secret. Denise's favorite ice cream is Chocolate Peanut Butter.\n
 Peter Dougan (guitar\, vocals)\, is the new guy. He's a hell of a guitar p
 layer and great all around musician. He can play just about anything he's 
 asked. LEFT-HANDED!!! FER CHRISSAKE! He plays in a wide range of musical p
 rojects in and around Woodstock and teaches music at the Woodstock Day Sch
 ool. He recently stepped out and lead the band on a tune or two. That plus
  his hot solos and solid rythmn playing is a welcome addition to the band.
  His favorite ice cream is [note to self: insert Peter's ice cream flavor 
 here].\nJamie Flynn (guitar\, vocals) is one of the great old school tie-d
 ye artists in the Hudson Valley. He's dyed several thousand shirts for the
  Grateful Dead over the last 30 years. His work can been seen on thousands
  of t-shirts at practically every concert or music festival in the country
 . He also plays a helluva guitar in a country band\, The Lost Cowboys\, wh
 ich interferes with his much more important MMR responsibilities\, but we 
 love him anyway. Jamie's favorite ice cream is French Vanilla.\nMike DuBoi
 s (drums\, harmonica) never stops moving. Busy busy busy. As one of the pr
 eeminent artists in the concert poster and psychedelic art scene\, he's ei
 ther making incredible art or running his busy store in Woodstock\, Happyl
 ife Productions. Stuffed to the gills with Mike's art\, other artist's wor
 k in frames\, on t-shirts and stickers\, Happylife is a hub of culture and
  creativity in a town world renown for art and music. He also plays drums 
 very well. They say he can sing too but we've never heard it. Mike's favor
 ite ice cream might be Vanilla Swiss Almond. Or perhaps chocolate. Homemad
 e Peach on Cape Cod is in the running.\nKenny Schneidman (keys\, vocals) s
 tarted playing the music of the Grateful Dead in the 70s in bands like The
  Lost Highway Ramblers (no relation)\, long before there was a Dead cover 
 band in every town. He once played acoustic guitar in a band called Mark T
 wang and keyboards in a new wave band called The Feds\, and has been invol
 ved in numerous musical projects his entire life. He also operates a busy 
 graphic design studio and is co-owner of the legendary Arrowhead Ranch in 
 Parksville\, NY. Kenny's favorite ice cream is definitely Jane's Coconut A
 lmond Joy.\nTom Bowler (bass\, vocals) likes Butter Pecan. Weird.\nFoundin
 g member Jason Ferguson (guitar\, vocals) RIP is no longer on this mortal 
 plane. Prior to his departure\, he could be found playing guitar or bass o
 n any given night in one of several bands including Rainbow Spirals\, (Que
 ens\, NY)\, Rainbow Full of Sound (East Coast)\, Wolfman Jack (New England
 ) and any number of other great bands that asked him to sit in from time t
 o time. Because he's that good. He was a freelancer. He was also the "go t
 o" technician for almost every guitar player in the NY metro area that pla
 ys the Grateful Dead's music. He built amazing guitars too. He was an elec
 tronics guru or a vacuum tube wizard of sorts. Nobody ever knew if Jason a
 te ice cream. It's still a big mystery. He existed solely on air. He is lo
 ved and sorely missed.\nhttps://mistymountainramblers.com
ATTACH;FMTTYPE=image/jpeg:https://kingstonhappenings.org/wp-content/upload
 s/2025/12/580126087_1485953159996908_4690238667673958013_n.jpg
CATEGORIES:@Featured,@Newsletter,Music,Nightlife and entertainment
LOCATION:Colony Woodstock NY\, 22 Rock City Rd\, Woodstock\, New York\, Uni
 ted States
GEO:42.0424924;-74.11799489999999
X-APPLE-STRUCTURED-LOCATION;VALUE=URI;X-ADDRESS=22 Rock City Rd\, Woodstock
 \, New York\, United States;X-APPLE-RADIUS=100;X-TITLE=Colony Woodstock NY
 :geo:42.0424924,-74.11799489999999
END:VEVENT
BEGIN:VTIMEZONE
TZID:America/New_York
X-LIC-LOCATION:America/New_York
BEGIN:STANDARD
DTSTART:20251102T010000
TZOFFSETFROM:-0400
TZOFFSETTO:-0500
TZNAME:EST
END:STANDARD
END:VTIMEZONE
END:VCALENDAR