BEGIN:VCALENDAR
VERSION:2.0
PRODID:-//wp-events-plugin.com//7.2.3.1//EN
TZID:America/New_York
X-WR-TIMEZONE:America/New_York
BEGIN:VEVENT
UID:152119@kingstonhappenings.org
DTSTART;TZID=America/New_York:20251025T090000
DTEND;TZID=America/New_York:20251025T160000
DTSTAMP:20251004T210832Z
URL:https://kingstonhappenings.org/events/miller-craft-fair/
SUMMARY:Miller Craft Fair
DESCRIPTION:37th Annual Miller Craft Fair on Saturday\, 10/25 from 9AM-4PM.
  Local crafters\, artisans\, holiday gifts\, specialty foods and more!\n$3
  admission fee - all proceeds benefit MCM students
CATEGORIES:@Featured
LOCATION:Miller Middle School\, 65 Fording Place\, Lake Katrine\, NY\, 1244
 9\, United States
GEO:41.9799745;-74.00142210000001
X-APPLE-STRUCTURED-LOCATION;VALUE=URI;X-ADDRESS=65 Fording Place\, Lake Kat
 rine\, NY\, 12449\, United States;X-APPLE-RADIUS=100;X-TITLE=Miller Middle
  School:geo:41.9799745,-74.00142210000001
END:VEVENT
BEGIN:VTIMEZONE
TZID:America/New_York
X-LIC-LOCATION:America/New_York
BEGIN:DAYLIGHT
DTSTART:20250309T030000
TZOFFSETFROM:-0500
TZOFFSETTO:-0400
TZNAME:EDT
END:DAYLIGHT
END:VTIMEZONE
END:VCALENDAR