BEGIN:VCALENDAR
VERSION:2.0
PRODID:-//wp-events-plugin.com//7.2.3.1//EN
TZID:America/New_York
X-WR-TIMEZONE:America/New_York
BEGIN:VEVENT
UID:153133@kingstonhappenings.org
DTSTART;TZID=America/New_York:20251218T180000
DTEND;TZID=America/New_York:20251218T180000
DTSTAMP:20251215T144650Z
URL:https://kingstonhappenings.org/events/mike-pete-an-irish-christmas/
SUMMARY:Mike & Pete – An Irish Christmas
DESCRIPTION:Mike O’Leary leads the vocals and plays guitar\, while Pete 
 Halvorsen plays the fiddle.  They have that magical way of making you fee
 l like you feel like you’re in the old country.  We love ’em\, and so
  will you!
ATTACH;FMTTYPE=image/jpeg:https://kingstonhappenings.org/wp-content/upload
 s/2025/12/54526047_2555124234516998_3057029460684439552_n-1-1.jpg
CATEGORIES:@Featured,@Newsletter,Art,Nightlife and entertainment
LOCATION:Keegan Ales\, 20 Saint James Street\, Kingston\, NY\, 12401\, Unit
 ed States
GEO:41.931504;-74.01187
X-APPLE-STRUCTURED-LOCATION;VALUE=URI;X-ADDRESS=20 Saint James Street\, Kin
 gston\, NY\, 12401\, United States;X-APPLE-RADIUS=100;X-TITLE=Keegan Ales:
 geo:41.931504,-74.01187
END:VEVENT
BEGIN:VTIMEZONE
TZID:America/New_York
X-LIC-LOCATION:America/New_York
BEGIN:STANDARD
DTSTART:20251102T010000
TZOFFSETFROM:-0400
TZOFFSETTO:-0500
TZNAME:EST
END:STANDARD
END:VTIMEZONE
END:VCALENDAR