BEGIN:VCALENDAR
VERSION:2.0
PRODID:-//wp-events-plugin.com//7.2.3.1//EN
TZID:America/New_York
X-WR-TIMEZONE:America/New_York
BEGIN:VEVENT
UID:151895@kingstonhappenings.org
DTSTART;TZID=America/New_York:20250918T180000
DTEND;TZID=America/New_York:20250918T180000
DTSTAMP:20250917T013210Z
URL:https://kingstonhappenings.org/events/mike-oleary-keegan-ales/
SUMMARY:Mike O’Leary @ Keegan Ales
DESCRIPTION:The front man of McGroovin’\,  our local singer-songwriter M
 ike O’Leary also teaches English at Kingston High School in his free tim
 e.  His album “What’s It To Ya?” features “songwriting that is 
 ‘Beatlesque’ and reminiscent of The Doobie Brothers.”
ATTACH;FMTTYPE=image/jpeg:https://kingstonhappenings.org/wp-content/upload
 s/2025/09/mike-o_leary-4.png
CATEGORIES:@Featured,@Newsletter,Music,Nightlife and entertainment
LOCATION:Keegan Ales\, 20 Saint James Street\, Kingston\, NY\, 12401\, Unit
 ed States
GEO:41.931504;-74.01187
X-APPLE-STRUCTURED-LOCATION;VALUE=URI;X-ADDRESS=20 Saint James Street\, Kin
 gston\, NY\, 12401\, United States;X-APPLE-RADIUS=100;X-TITLE=Keegan Ales:
 geo:41.931504,-74.01187
END:VEVENT
BEGIN:VTIMEZONE
TZID:America/New_York
X-LIC-LOCATION:America/New_York
BEGIN:DAYLIGHT
DTSTART:20250309T030000
TZOFFSETFROM:-0500
TZOFFSETTO:-0400
TZNAME:EDT
END:DAYLIGHT
END:VTIMEZONE
END:VCALENDAR