BEGIN:VCALENDAR
VERSION:2.0
PRODID:-//wp-events-plugin.com//7.2.3.1//EN
TZID:America/New_York
X-WR-TIMEZONE:America/New_York
BEGIN:VEVENT
UID:151574@kingstonhappenings.org
DTSTART;TZID=America/New_York:20250922T190000
DTEND;TZID=America/New_York:20250922T203000
DTSTAMP:20250922T145209Z
URL:https://kingstonhappenings.org/events/mid-hudson-womens-chorus-open-re
 hearsals-3/
SUMMARY:Mid-Hudson Women's Chorus Open Rehearsals
DESCRIPTION:If you are a woman who loves to sing\, please join the Mid-Huds
 on Women's Chorus for our open rehearsals. There are no auditions and you 
 can see if the chorus is a good fit for you. If you decide to join there i
 s a $35 per semester fee to help defray our costs\, but nobody will be tur
 ned away for lack of funds. For specific questions you may use the contact
  form located in our website: www.midhudsonwomenschorus.org\n\n\n\n&nbsp\;
ATTACH;FMTTYPE=image/jpeg:https://kingstonhappenings.org/wp-content/upload
 s/2025/08/Mid-Hudson-Womens-Chorus-Open-Rehearsals-3-consecutive-Mondays-S
 eptember-8th-15th-22nd-3.jpg
CATEGORIES:@Featured,@Newsletter,Music
LOCATION:St. James Methodist Church\, 35 Pearl St.\, Kingston\, NY\, 12401\
 , United States
GEO:41.9321262;-74.01715179999997
X-APPLE-STRUCTURED-LOCATION;VALUE=URI;X-ADDRESS=35 Pearl St.\, Kingston\, N
 Y\, 12401\, United States;X-APPLE-RADIUS=100;X-TITLE=St. James Methodist C
 hurch:geo:41.9321262,-74.01715179999997
END:VEVENT
BEGIN:VTIMEZONE
TZID:America/New_York
X-LIC-LOCATION:America/New_York
BEGIN:DAYLIGHT
DTSTART:20250309T030000
TZOFFSETFROM:-0500
TZOFFSETTO:-0400
TZNAME:EDT
END:DAYLIGHT
END:VTIMEZONE
END:VCALENDAR