BEGIN:VCALENDAR
VERSION:2.0
PRODID:-//wp-events-plugin.com//7.2.3.1//EN
TZID:America/New_York
X-WR-TIMEZONE:America/New_York
BEGIN:VEVENT
UID:152942@kingstonhappenings.org
DTSTART;TZID=America/New_York:20251206T150000
DTEND;TZID=America/New_York:20251206T170000
DTSTAMP:20251124T191009Z
URL:https://kingstonhappenings.org/events/members-gallery-scenes-from-life
 /
SUMMARY:Members Gallery: Scenes from Life
DESCRIPTION:Members Gallery: Scenes from Life\nASK’s final Members Galle
 ry exhibition of the year\, Scenes from Life\, showcases work by local ar
 tists exploring the beauty\, humor\, and emotional resonance of everyday e
 xperience. Featuring painting\, sculpture\, photography\, and mixed media\
 , the show captures the moments\, ordinary and extraordinary\, that shape 
 our shared humanity.\n\nParticipating Artists:\nRobert Barnes\, Catherine 
 Decker\, John Dinkey\, Walter Fancourt\, Stacie Flint\, Larry G. Arvidson\
 , Tom Hackett\, Laura Helfant\, Barbara Holt\, David Holt\, Michelle Hughe
 s\, David Joseph\, Maxine Kamin\, Pat Kelly\, Debbie Martin\, James Martin
 \, Jim McCann\, Carol McCarthy\, Carol Silverman\, Judy Stanger\, Faye Sto
 rms\, Amelia Williams.\n\n&nbsp\;\n\nOpening Reception: Saturday\, Decemb
 er 6 at 3 PM\nExhibition Dates: Saturday December 6 – Sunday 28\, 2025\
 nLocation: Arts Society of Kingston (ASK)\, 97 Broadway\, Kingston\, NY
CATEGORIES:@Featured,Art
LOCATION:Arts Society of Kingston (ASK)\, 97 Broadway\, Kingston\, New York
 \, 12401\, United States
GEO:41.920206;-73.985723
X-APPLE-STRUCTURED-LOCATION;VALUE=URI;X-ADDRESS=97 Broadway\, Kingston\, Ne
 w York\, 12401\, United States;X-APPLE-RADIUS=100;X-TITLE=Arts Society of 
 Kingston (ASK):geo:41.920206,-73.985723
END:VEVENT
BEGIN:VTIMEZONE
TZID:America/New_York
X-LIC-LOCATION:America/New_York
BEGIN:STANDARD
DTSTART:20251102T010000
TZOFFSETFROM:-0400
TZOFFSETTO:-0500
TZNAME:EST
END:STANDARD
END:VTIMEZONE
END:VCALENDAR