BEGIN:VCALENDAR
VERSION:2.0
PRODID:-//wp-events-plugin.com//7.2.3.1//EN
TZID:America/New_York
X-WR-TIMEZONE:America/New_York
BEGIN:VEVENT
UID:152634@kingstonhappenings.org
DTSTART;TZID=America/New_York:20251116T190000
DTEND;TZID=America/New_York:20251116T190000
DTSTAMP:20251110T222144Z
URL:https://kingstonhappenings.org/events/meir-levine-x-laura-zarougian/
SUMMARY:Meir Levine x Laura Zarougian
DESCRIPTION:Hailing from the the Hudson Valley\, Meir Levine blends his fol
 k-rock\, americana tinged songwriting with an indie rock sensibility\;. Gr
 owing up idolizing bands like Tom Petty &amp\; THB\, The Eagles\, Little F
 eat and The Grateful Dead\, Armed with his always excellent band\, Meir’
 s showed can often range from a full blown rock &amp\; roll revue to a mor
 e intimate singer-songwriter showcase.https://meirlevinemusic.com\nLAURA Z
 AROUGIANLaura Zarougian is a singer-songwriter based in New York's Hudson 
 Valley. Her debut album\, Nayri\, draws from country\, folk\, and rock\, w
 hile exploring themes of her Armenian and Middle Eastern identities. She i
 s especially drawn to her family's stories- displaced people whose voices 
 were and are still underrepresented. She refers to this genre as "Armenian
  Cowgirl."She has been an open mic host\, poet for hire\, barista and an e
 lementary school art teacher. DJ Aja Whitney of Radio Woodstock WDST recen
 tly named "Nayri" one of her favorite albums of 2023. Jon Aird of American
 a UK listed my song "Back To Me" as the No.2 song of 2023.https://www.laur
 azarougian.com/\nSee less\n
ATTACH;FMTTYPE=image/jpeg:https://kingstonhappenings.org/wp-content/upload
 s/2025/11/558977056_1454260556499502_5571229748258378066_n.jpg
CATEGORIES:@Featured,@Newsletter,Music,Nightlife and entertainment
LOCATION:Colony Woodstock NY\, 22 Rock City Rd\, Woodstock\, New York\, Uni
 ted States
GEO:42.0424924;-74.11799489999999
X-APPLE-STRUCTURED-LOCATION;VALUE=URI;X-ADDRESS=22 Rock City Rd\, Woodstock
 \, New York\, United States;X-APPLE-RADIUS=100;X-TITLE=Colony Woodstock NY
 :geo:42.0424924,-74.11799489999999
END:VEVENT
BEGIN:VTIMEZONE
TZID:America/New_York
X-LIC-LOCATION:America/New_York
BEGIN:STANDARD
DTSTART:20251102T010000
TZOFFSETFROM:-0400
TZOFFSETTO:-0500
TZNAME:EST
END:STANDARD
END:VTIMEZONE
END:VCALENDAR