BEGIN:VCALENDAR
VERSION:2.0
PRODID:-//wp-events-plugin.com//7.2.3.1//EN
TZID:America/New_York
X-WR-TIMEZONE:America/New_York
BEGIN:VEVENT
UID:155808@kingstonhappenings.org
DTSTART;TZID=America/New_York:20260313T180000
DTEND;TZID=America/New_York:20260313T190000
DTSTAMP:20260309T201350Z
URL:https://kingstonhappenings.org/events/meet-your-feet-w-inka/
SUMMARY:Meet Your Feet w/ Inka
DESCRIPTION:Rolling out the fascia of your feet and lower leg compartment.
CATEGORIES:@Featured,@Newsletter,Health, fitness, yoga, martial arts and
 other classes
LOCATION:Evolutionary Psychotherapy\, 291 Wall Street\, 3rd Floor\, KINGSTO
 N\, NY\, 12401\, United States
GEO:41.933544;-74.019868
X-APPLE-STRUCTURED-LOCATION;VALUE=URI;X-ADDRESS=291 Wall Street\, 3rd Floor
 \, KINGSTON\, NY\, 12401\, United States;X-APPLE-RADIUS=100;X-TITLE=Evolut
 ionary Psychotherapy:geo:41.933544,-74.019868
END:VEVENT
BEGIN:VTIMEZONE
TZID:America/New_York
X-LIC-LOCATION:America/New_York
BEGIN:DAYLIGHT
DTSTART:20260308T030000
TZOFFSETFROM:-0500
TZOFFSETTO:-0400
TZNAME:EDT
END:DAYLIGHT
END:VTIMEZONE
END:VCALENDAR