BEGIN:VCALENDAR
VERSION:2.0
PRODID:-//wp-events-plugin.com//7.2.3.1//EN
TZID:America/New_York
X-WR-TIMEZONE:America/New_York
BEGIN:VEVENT
UID:153382@kingstonhappenings.org
DTSTART;TZID=America/New_York:20260108T180000
DTEND;TZID=America/New_York:20260108T193000
DTSTAMP:20260105T200159Z
URL:https://kingstonhappenings.org/events/meet-the-artist-with-sheida-sole
 imani/
SUMMARY:“Meet the Artist” with Sheida Soleimani
DESCRIPTION:On Thursday\, January 8\, we welcome Sheida Soleimani to “Mee
 t the Artist” night at CPW\, where she will present an overview of her p
 ractice.\n\nJoin us on select Thursday evenings at CPW\, when we host illu
 minating talks with local and visiting artists. “Meet the Artist” allo
 ws the public to get to know new work\, to hear about artistic processes\,
  and to meet friends and other local artists. The evening takes place at C
 PW’s gallery at 25 Dederick Street in Kingston\, NY. It is free and open
  to the public. Coffee\, tea\, and snacks are served.\n\n“Meet the Artis
 t” is made possible by generous grants from the Arnold &amp\; Augusta Ne
 wman Foundation and the National Endowment for the Arts.
CATEGORIES:@Featured,@Newsletter,Art,Community
LOCATION:Center for Photography at Woodstock(CPW)\, 25 Dederick St. \, King
 ston\, NY\, 12401\, United States
GEO:41.92761;-73.998774
X-APPLE-STRUCTURED-LOCATION;VALUE=URI;X-ADDRESS=25 Dederick St. \, Kingston
 \, NY\, 12401\, United States;X-APPLE-RADIUS=100;X-TITLE=Center for Photog
 raphy at Woodstock(CPW):geo:41.92761,-73.998774
END:VEVENT
BEGIN:VTIMEZONE
TZID:America/New_York
X-LIC-LOCATION:America/New_York
BEGIN:STANDARD
DTSTART:20251102T010000
TZOFFSETFROM:-0400
TZOFFSETTO:-0500
TZNAME:EST
END:STANDARD
END:VTIMEZONE
END:VCALENDAR