BEGIN:VCALENDAR
VERSION:2.0
PRODID:-//wp-events-plugin.com//7.2.3.1//EN
TZID:America/New_York
X-WR-TIMEZONE:America/New_York
BEGIN:VEVENT
UID:156426@kingstonhappenings.org
DTSTART;TZID=America/New_York:20260507T180000
DTEND;TZID=America/New_York:20260507T193000
DTSTAMP:20260422T160507Z
URL:https://kingstonhappenings.org/events/meet-the-artist-with-genesis-bae
 z/
SUMMARY:“Meet the Artist" with Genesis Báez
DESCRIPTION:On Thursday\, May 7\, we welcome Genesis Báez to “Meet the A
 rtist” night at CPW. Báez will present her recent monograph Blue Sun as
  well as new works.\n\nJoin us on select Thursday evenings at CPW\, when w
 e host illuminating talks with local and visiting artists. “Meet the Art
 ist” allows the public to get to know new work\, to hear about artistic 
 processes\, and to meet friends and other local artists. The evening takes
  place at CPW’s gallery at 25 Dederick Street in Kingston\, NY. It is fr
 ee and open to the public. Coffee\, tea\, and snacks are served. Genesis B
 áez is an artist working with photography. In 2025 she published her firs
 t monograph Blue Sun (Capricious Publishing)\, weaving a decade of photogr
 aphs made in Puerto Rico and its diaspora. Baez has exhibited internationa
 lly including the Whitney Museum\, Princeton University Art Museum\, and K
 ilometro in San Juan\, PR. Her works are held in the permanent collections
  of the Museum of Modern Art\, the Whitney Museum of American Art\, the Ya
 le University Art Museum\, and the Detroit Institute of Art. Baez holds an
  MFA from the Yale School of Art and a BFA from MassArt. She is a 2025 Ans
 chutz Distinguished Fellow at Princeton University\, and is currently an A
 ssistant Professor of Art at Amherst College.
CATEGORIES:@Featured
LOCATION:Center for Photography at Woodstock(CPW)\, 25 Dederick St. \, King
 ston\, NY\, 12401\, United States
GEO:41.92761;-73.998774
X-APPLE-STRUCTURED-LOCATION;VALUE=URI;X-ADDRESS=25 Dederick St. \, Kingston
 \, NY\, 12401\, United States;X-APPLE-RADIUS=100;X-TITLE=Center for Photog
 raphy at Woodstock(CPW):geo:41.92761,-73.998774
END:VEVENT
BEGIN:VTIMEZONE
TZID:America/New_York
X-LIC-LOCATION:America/New_York
BEGIN:DAYLIGHT
DTSTART:20260308T030000
TZOFFSETFROM:-0500
TZOFFSETTO:-0400
TZNAME:EDT
END:DAYLIGHT
END:VTIMEZONE
END:VCALENDAR