BEGIN:VCALENDAR
VERSION:2.0
PRODID:-//wp-events-plugin.com//7.2.3.1//EN
TZID:America/New_York
X-WR-TIMEZONE:America/New_York
BEGIN:VEVENT
UID:153258@kingstonhappenings.org
DTSTART;TZID=America/New_York:20260205T180000
DTEND;TZID=America/New_York:20260205T193000
DTSTAMP:20260202T180947Z
URL:https://kingstonhappenings.org/events/meet-the-artist-with-dale-rio/
SUMMARY:"Meet the Artist" with Dale Rio
DESCRIPTION:On Thursday\, February 5\, we welcome Dale Rio to “Meet the A
 rtist” night at CPW. Rio will present her current bodies of work and dis
 cuss how they fit into different approaches of image-making\, specifically
  project-based versus shoot-now-and-make-sense-of-it-later. Rio will also 
 discuss the importance of community in the arts and the ways in which she
 ’s been able to find and create community within the world of historic a
 nd alternative process photography. This event will be live-streamed on CP
 W’s YouTube page at 6pm.
CATEGORIES:@Featured,@Newsletter
LOCATION:Center for Photography at Woodstock(CPW)\, 25 Dederick St. \, King
 ston\, NY\, 12401\, United States
GEO:41.92761;-73.998774
X-APPLE-STRUCTURED-LOCATION;VALUE=URI;X-ADDRESS=25 Dederick St. \, Kingston
 \, NY\, 12401\, United States;X-APPLE-RADIUS=100;X-TITLE=Center for Photog
 raphy at Woodstock(CPW):geo:41.92761,-73.998774
END:VEVENT
BEGIN:VTIMEZONE
TZID:America/New_York
X-LIC-LOCATION:America/New_York
BEGIN:STANDARD
DTSTART:20251102T010000
TZOFFSETFROM:-0400
TZOFFSETTO:-0500
TZNAME:EST
END:STANDARD
END:VTIMEZONE
END:VCALENDAR