BEGIN:VCALENDAR
VERSION:2.0
PRODID:-//wp-events-plugin.com//7.2.3.1//EN
TZID:America/New_York
X-WR-TIMEZONE:America/New_York
BEGIN:VEVENT
UID:155030@kingstonhappenings.org
DTSTART;TZID=America/New_York:20260219T180000
DTEND;TZID=America/New_York:20260219T193000
DTSTAMP:20260129T003112Z
URL:https://kingstonhappenings.org/events/meet-the-artist-with-chris-brook
 s/
SUMMARY:“Meet the Artist” with Chris Brooks
DESCRIPTION:On Thursday\, February 19\, we welcome Chris Brooks to “Meet 
 the Artist” night at CPW. Brooks will be talking about his decade-long j
 ourney to discover a 137 year old family printing and publishing business\
 , one he knew little about because of the death of his father when he was 
 young. The culmination of which was a book of finely crafted large format 
 photographs and letterpress printing\, published by that same family busin
 ess\, relaunched some 40 years after its closure. He will have copies of h
 is book\, The Brooks Press of Wirksworth\, available for sale throughout t
 he evening. This event will be live-streamed on CPW’s YouTube page at 6p
 m. ( subject to chnage)
CATEGORIES:@Featured
LOCATION:Center for Photography at Woodstock(CPW)\, 25 Dederick St. \, King
 ston\, NY\, 12401\, United States
GEO:41.92761;-73.998774
X-APPLE-STRUCTURED-LOCATION;VALUE=URI;X-ADDRESS=25 Dederick St. \, Kingston
 \, NY\, 12401\, United States;X-APPLE-RADIUS=100;X-TITLE=Center for Photog
 raphy at Woodstock(CPW):geo:41.92761,-73.998774
END:VEVENT
BEGIN:VTIMEZONE
TZID:America/New_York
X-LIC-LOCATION:America/New_York
BEGIN:STANDARD
DTSTART:20251102T010000
TZOFFSETFROM:-0400
TZOFFSETTO:-0500
TZNAME:EST
END:STANDARD
END:VTIMEZONE
END:VCALENDAR