BEGIN:VCALENDAR
VERSION:2.0
PRODID:-//wp-events-plugin.com//7.2.3.1//EN
TZID:America/New_York
X-WR-TIMEZONE:America/New_York
BEGIN:VEVENT
UID:155372@kingstonhappenings.org
DTSTART;TZID=America/New_York:20260409T180000
DTEND;TZID=America/New_York:20260409T193000
DTSTAMP:20260406T230058Z
URL:https://kingstonhappenings.org/events/meet-the-artist-with-charlie-eng
 man/
SUMMARY:“Meet the Artist” with Charlie Engman
DESCRIPTION:On Thursday\, April 9\, we welcome Charlie Engman to “Meet th
 e Artist” night at CPW. In this presentation\, Engman will trace several
  threads of his practice\, moving between a long-term collaborative projec
 t with his mother\, a hybrid text-and-image cultural critique of Hello Kit
 ty\, and recent experiments with generative AI. Bringing these works into 
 conversation\, he will reflect on how images produce meaning\, intimacy\, 
 and belief\, and consider the risks and creative possibilities of working 
 with AI as an unstable and contested medium. Engman will have copies of hi
 s books for sale throughout the evening. This event will be live-streamed 
 on CPW’s YouTube page at 6pm.
ATTACH;FMTTYPE=image/jpeg:https://kingstonhappenings.org/wp-content/upload
 s/2026/02/Charlie-Engman.jpg
CATEGORIES:@Featured,@Newsletter
LOCATION:Center for Photography at Woodstock(CPW)\, 25 Dederick St. \, King
 ston\, NY\, 12401\, United States
GEO:41.92761;-73.998774
X-APPLE-STRUCTURED-LOCATION;VALUE=URI;X-ADDRESS=25 Dederick St. \, Kingston
 \, NY\, 12401\, United States;X-APPLE-RADIUS=100;X-TITLE=Center for Photog
 raphy at Woodstock(CPW):geo:41.92761,-73.998774
END:VEVENT
BEGIN:VTIMEZONE
TZID:America/New_York
X-LIC-LOCATION:America/New_York
BEGIN:DAYLIGHT
DTSTART:20260308T030000
TZOFFSETFROM:-0500
TZOFFSETTO:-0400
TZNAME:EDT
END:DAYLIGHT
END:VTIMEZONE
END:VCALENDAR