BEGIN:VCALENDAR
VERSION:2.0
PRODID:-//wp-events-plugin.com//7.2.3.1//EN
TZID:America/New_York
X-WR-TIMEZONE:America/New_York
BEGIN:VEVENT
UID:155371@kingstonhappenings.org
DTSTART;TZID=America/New_York:20260326T180000
DTEND;TZID=America/New_York:20260326T193000
DTSTAMP:20260324T190513Z
URL:https://kingstonhappenings.org/events/meet-the-artist-sara-j-winston-i
 n-conversation-with-molly-prentiss/
SUMMARY:Meet the Artist: Sara J. Winston In Conversation with Molly Prentis
 s
DESCRIPTION:On Thursday\, March 26\, join Sara J. Winston and Molly Prentis
 s in conversation to celebrate the launch of Sara’s new book\, Too Visc
 eral to be Intelligent\, published this March by 1080Press of Kingston\, N
 ew York. This book is made possible with funds from the New York State L
 egislature and administered by Arts Mid-Hudson. Sara will have copies of 
 her new book\, Too Visceral to be Intelligent (1080Press\, 2026)\, as we
 ll as Sugar Honey Iced Tea (For the Birds Trapped in Airports\, 2025)\, 
 available for sale throughout the evening. This event will be live-streame
 d on CPW’s YouTube page at 6pm.
ATTACH;FMTTYPE=image/jpeg:https://kingstonhappenings.org/wp-content/upload
 s/2026/02/Sara-J.-Winston.jpg
CATEGORIES:@Featured,@Newsletter
LOCATION:Center for Photography at Woodstock(CPW)\, 25 Dederick St. \, King
 ston\, NY\, 12401\, United States
GEO:41.92761;-73.998774
X-APPLE-STRUCTURED-LOCATION;VALUE=URI;X-ADDRESS=25 Dederick St. \, Kingston
 \, NY\, 12401\, United States;X-APPLE-RADIUS=100;X-TITLE=Center for Photog
 raphy at Woodstock(CPW):geo:41.92761,-73.998774
END:VEVENT
BEGIN:VTIMEZONE
TZID:America/New_York
X-LIC-LOCATION:America/New_York
BEGIN:DAYLIGHT
DTSTART:20260308T030000
TZOFFSETFROM:-0500
TZOFFSETTO:-0400
TZNAME:EDT
END:DAYLIGHT
END:VTIMEZONE
END:VCALENDAR