BEGIN:VCALENDAR
VERSION:2.0
PRODID:-//wp-events-plugin.com//7.2.3.1//EN
TZID:America/New_York
X-WR-TIMEZONE:America/New_York
BEGIN:VEVENT
UID:151981@kingstonhappenings.org
DTSTART;TZID=America/New_York:20250922T110000
DTEND;TZID=America/New_York:20250922T120000
DTSTAMP:20250918T205845Z
URL:https://kingstonhappenings.org/events/maximizing-your-medicare/
SUMMARY:Maximizing Your Medicare
DESCRIPTION:Free educational workshop. Join representatives from Health Opt
 ions NY and talk about:\n\n 	Understanding Medicare basics and changes co
 ming in 2026\n 	Make informed decisions about your Medicare coverage\n 	Co
 st saving strategies and resources to optimize Medicare benefits\n 	Helpi
 ng you understand your insurance options\n\nLight refreshments provided!
ATTACH;FMTTYPE=image/jpeg:https://kingstonhappenings.org/wp-content/upload
 s/2025/09/Understanding-Medicare-1.png
CATEGORIES:@Featured,Educational classes and lectures
LOCATION:Town of Ulster Library\, 860 Ulster Ave.\, Kingston\, New York\, 1
 2401\, United States
GEO:41.9546291;-73.99388220000003
X-APPLE-STRUCTURED-LOCATION;VALUE=URI;X-ADDRESS=860 Ulster Ave.\, Kingston\
 , New York\, 12401\, United States;X-APPLE-RADIUS=100;X-TITLE=Town of Ulst
 er Library:geo:41.9546291,-73.99388220000003
END:VEVENT
BEGIN:VTIMEZONE
TZID:America/New_York
X-LIC-LOCATION:America/New_York
BEGIN:DAYLIGHT
DTSTART:20250309T030000
TZOFFSETFROM:-0500
TZOFFSETTO:-0400
TZNAME:EDT
END:DAYLIGHT
END:VTIMEZONE
END:VCALENDAR