BEGIN:VCALENDAR
VERSION:2.0
PRODID:-//wp-events-plugin.com//7.2.3.1//EN
TZID:America/New_York
X-WR-TIMEZONE:America/New_York
BEGIN:VEVENT
UID:153381@kingstonhappenings.org
DTSTART;TZID=America/New_York:20260111T143000
DTEND;TZID=America/New_York:20260111T160000
DTSTAMP:20260105T141947Z
URL:https://kingstonhappenings.org/events/massed-choir-epiphany-concert/
SUMMARY:Massed Choir Epiphany Concert
DESCRIPTION:Next Sunday\, January 11th\, at 2:30 PM. Please make plans to j
 oin us at St. Joseph’s Church\, Kingston\, NY\, in uptown Kingston\, for
  an afternoon of wonderful Christmas Carols and songs of the season. All a
 re welcome!
ATTACH;FMTTYPE=image/jpeg:https://kingstonhappenings.org/wp-content/upload
 s/2026/01/611558729_122181408848585013_245541756189620479_n.jpg
CATEGORIES:@Featured,@Newsletter,Music,Nightlife and entertainment
LOCATION:St. Joseph's School\, 235 Wall St.\, Kingston\, NY\, United States
GEO:41.931074;-74.01890100000003
X-APPLE-STRUCTURED-LOCATION;VALUE=URI;X-ADDRESS=235 Wall St.\, Kingston\, N
 Y\, United States;X-APPLE-RADIUS=100;X-TITLE=St. Joseph's School:geo:41.93
 1074,-74.01890100000003
END:VEVENT
BEGIN:VTIMEZONE
TZID:America/New_York
X-LIC-LOCATION:America/New_York
BEGIN:STANDARD
DTSTART:20251102T010000
TZOFFSETFROM:-0400
TZOFFSETTO:-0500
TZNAME:EST
END:STANDARD
END:VTIMEZONE
END:VCALENDAR