BEGIN:VCALENDAR
VERSION:2.0
PRODID:-//wp-events-plugin.com//7.2.3.1//EN
TZID:America/New_York
X-WR-TIMEZONE:America/New_York
BEGIN:VEVENT
UID:154742@kingstonhappenings.org
DTSTART;TZID=America/New_York:20260109T200000
DTEND;TZID=America/New_York:20260201T180000
DTSTAMP:20260202T143537Z
URL:https://kingstonhappenings.org/events/mary-poppins/
SUMMARY:Mary Poppins
DESCRIPTION:CENTERstage Productions is proud to present the musical Mary Po
 ppins\, a musical based on the stories of P.L. Travers and the Walt Disney
  Film. Original music and lyrics by Richard M. Sherman and Robert B. Sherm
 an\, book by Julian Fellowes\, with new songs and additional music and lyr
 ics by George Stiles and Anthony Drewe. Co-created by Cameron Mackintosh. 
 Directed by Duane Joseph Olson. Musical Direction by Russell McCook. Chore
 ography by Maria Coppola with Haley Swetz.\nThe jack-of-all trades\, Bert\
 , introduces us to England in 1910 and the troubled Banks family. Young Ja
 ne and Michael have sent many a nanny packing before Mary Poppins arrives 
 on their doorstep. Using a combination of magic and common sense\, she mus
 t teach the family members how to value each other again. Mary Poppins tak
 es the children on many magical and memorable adventures\, but Jane and Mi
 chael aren't the only ones upon whom she has a profound effect. Even grown
 -ups can learn a lesson or two from the nanny who advises that "Anything c
 an happen if you let it."\nStarring Emily Holland and Emma Hempel as Mary 
 Poppins*\, Dennis Wakeman as Bert\, Kate Worthey as Winifred Banks\, Brian
  Kuchciki as George Banks\, Harriet Luongo as Jane\, Jack Ranieri as Micha
 el\, Mary Dallari as The Bird Woman\, Kaeli Heffner as Miss Andrew\, Thoma
 s Iorio as Robertson Ay\, Wendy Urban-Mead as Mrs. Brill\, Lisa Lynds as M
 iss Corry\, and Anthony Carl as Neleus. Featuring Abby Anspach\, Mary Kate
  Barnett\, Natalie Bunta\, Kelsey Christiana\, Leah Conklin\, Courtney Con
 stantino\, Kiara Daniello\, Maggie Dolan\, River Garcia\, Lily Garcia\, Mo
 lly Gilman\, Gabby Licari\, Christine McCarthy\, Kim McConville\, Duane Ol
 son\, Sr.\, Ben Parish\, Izzy Ricks\, Howie Riggs\, Dan Santos\, David Sha
 kopi\, Lou Simone\, and Eve Vuleau.\n*Double Cast Schedule:\nEmily Holland
  as Mary Poppins: First Weekend: 1/9-1/11\, Third Weekend: 1/23-1/25\nEmma
  Hempel as Mary Poppins: Second Weekend: 1/16-1/18\, Fourth Weekend: 1/30-
 2/1\nFriday\, 1/9 at 8PM: Emily HollandSaturday\, 1/10 at 3PM: Emily Holla
 ndSunday\, 1/11 at 3PM: Emily Holland\nFriday\, 1/16 at 8PM: Emma HempelSa
 turday\, 1/17 at 3PM: Emma HempelSunday\, 1/18 at 3PM: Emma Hempel\nFriday
 \, 1/23 at 8PM: Emily HollandSaturday\, 1/24 at 3PM: Emily HollandSunday\,
  1/25 at 3PM: Emily Holland\nFriday\, 1/30 at 8PM: Emma HempelSaturday\, 1
 /31 at 3PM: Emma HempelSunday\, 2/1 at 3PM: Emma Hempel
ATTACH;FMTTYPE=image/jpeg:https://kingstonhappenings.org/wp-content/upload
 s/2026/01/571224633_1485923670201286_1329797577580795790_n.jpg
CATEGORIES:@Featured,@Newsletter,Community,Music,Nightlife and
 entertainment,Theater
LOCATION:Center for Performing Arts at Rhinebeck\, \, 
X-APPLE-STRUCTURED-LOCATION;VALUE=URI;X-ADDRESS=\, ;X-APPLE-RADIUS=100;X-TI
 TLE=Center for Performing Arts at Rhinebeck:geo:0,0
END:VEVENT
BEGIN:VTIMEZONE
TZID:America/New_York
X-LIC-LOCATION:America/New_York
BEGIN:STANDARD
DTSTART:20251102T010000
TZOFFSETFROM:-0400
TZOFFSETTO:-0500
TZNAME:EST
END:STANDARD
END:VTIMEZONE
END:VCALENDAR