BEGIN:VCALENDAR
VERSION:2.0
PRODID:-//wp-events-plugin.com//7.2.3.1//EN
TZID:America/New_York
X-WR-TIMEZONE:America/New_York
BEGIN:VEVENT
UID:152632@kingstonhappenings.org
DTSTART;TZID=America/New_York:20251116T190000
DTEND;TZID=America/New_York:20251116T190000
DTSTAMP:20251117T145427Z
URL:https://kingstonhappenings.org/events/marlon-wayans-upac/
SUMMARY:Marlon Wayans @ UPAC
DESCRIPTION:Marlon Wayans coming to Kingston\, NY! Marlon Wayans is back fo
 r The North Amerian Tour in 2025. Find tickets today!\n\nTICKETS\n\n&nbsp\
 ;
ATTACH;FMTTYPE=image/jpeg:https://kingstonhappenings.org/wp-content/upload
 s/2025/11/492889852_1180695990767575_4842667814996301444_n.jpg
CATEGORIES:@Featured,@Newsletter,Comedy,Nightlife and entertainment
LOCATION:Ulster Performing Arts Center (UPAC)\, 601 Broadway\, Kingston\, N
 ew York\, 12401\, United States
GEO:41.92931799999999;-74.004142
X-APPLE-STRUCTURED-LOCATION;VALUE=URI;X-ADDRESS=601 Broadway\, Kingston\, N
 ew York\, 12401\, United States;X-APPLE-RADIUS=100;X-TITLE=Ulster Performi
 ng Arts Center (UPAC):geo:41.92931799999999,-74.004142
END:VEVENT
BEGIN:VTIMEZONE
TZID:America/New_York
X-LIC-LOCATION:America/New_York
BEGIN:STANDARD
DTSTART:20251102T010000
TZOFFSETFROM:-0400
TZOFFSETTO:-0500
TZNAME:EST
END:STANDARD
END:VTIMEZONE
END:VCALENDAR