BEGIN:VCALENDAR
VERSION:2.0
PRODID:-//wp-events-plugin.com//7.2.3.1//EN
TZID:America/New_York
X-WR-TIMEZONE:America/New_York
BEGIN:VEVENT
UID:156008@kingstonhappenings.org
DTSTART;TZID=America/New_York:20260327T200000
DTEND;TZID=America/New_York:20260327T200000
DTSTAMP:20260324T190516Z
URL:https://kingstonhappenings.org/events/marco-benevento-and-friends/
SUMMARY:Marco Benevento and Friends
DESCRIPTION:Marco Benevento and Friends\nft. special guests Karina Rykman\,
  Sam Cohen\, Jay Collins and many more\nin the Bearsville Theater Lounge\n
 \n\nDJ set from Marco Bevevento followed by an epic jam with friends.\n\nT
 his event is sliding scale\, pay what you can.\n
ATTACH;FMTTYPE=image/jpeg:https://kingstonhappenings.org/wp-content/upload
 s/2026/03/625568323_1355694449929706_5243879319101981640_n.jpg
CATEGORIES:@Featured,@Newsletter,Music,Nightlife and entertainment
LOCATION:Bearsville Theater\, 291 Tinker St\, Woodstock\, New York\, United
  States
GEO:42.039887;-74.154127
X-APPLE-STRUCTURED-LOCATION;VALUE=URI;X-ADDRESS=291 Tinker St\, Woodstock\,
  New York\, United States;X-APPLE-RADIUS=100;X-TITLE=Bearsville Theater:ge
 o:42.039887,-74.154127
END:VEVENT
BEGIN:VTIMEZONE
TZID:America/New_York
X-LIC-LOCATION:America/New_York
BEGIN:DAYLIGHT
DTSTART:20260308T030000
TZOFFSETFROM:-0500
TZOFFSETTO:-0400
TZNAME:EDT
END:DAYLIGHT
END:VTIMEZONE
END:VCALENDAR