BEGIN:VCALENDAR
VERSION:2.0
PRODID:-//wp-events-plugin.com//7.2.3.1//EN
TZID:America/New_York
X-WR-TIMEZONE:America/New_York
BEGIN:VEVENT
UID:152712@kingstonhappenings.org
DTSTART;TZID=America/New_York:20251129T190000
DTEND;TZID=America/New_York:20251129T220000
DTSTAMP:20251117T215851Z
URL:https://kingstonhappenings.org/events/marc-black-band/
SUMMARY:Marc Black Band
DESCRIPTION:Marc Black – guitar/vocals\n\nMichael Esposito – bass\n\nRa
 lph Legnini -guitar\n\nEric Parker -drums\n\n&nbsp\;\n\nJoin us for dinner
  and drinks including “the best duck in the Hudson Valley”\n\nSuggeste
 d $20 donation for music\n\nReservations are recommended – call 845-687-
 NERD (6373)\n\n&nbsp\;\n\n&nbsp\;\n\nMarc has enjoyed many adventures\, fo
 llowing the music through folk\, blues\, funk\, experimental soundscapes\,
  and film scoring. But in the end\, he always comes back to Claudette\, th
 at sweet and faithful Guild D40 guitar that he’s been traveling with for
  decades!  He was recently awarded the Key to the Town of Woodstock... 
 a recognition of his deep connection to the town\, and a source of his cr
 eativity altogether.
ATTACH;FMTTYPE=image/jpeg:https://kingstonhappenings.org/wp-content/upload
 s/2025/11/2025.11.29_Black.jpg
CATEGORIES:@Featured,Music
LOCATION:Lydia's Cafe\, 7 Old U.S. 209\, Stone Ridge\, New York\, United St
 ates
GEO:41.8306145;-74.17658890000001
X-APPLE-STRUCTURED-LOCATION;VALUE=URI;X-ADDRESS=7 Old U.S. 209\, Stone Ridg
 e\, New York\, United States;X-APPLE-RADIUS=100;X-TITLE=Lydia's Cafe:geo:4
 1.8306145,-74.17658890000001
END:VEVENT
BEGIN:VTIMEZONE
TZID:America/New_York
X-LIC-LOCATION:America/New_York
BEGIN:STANDARD
DTSTART:20251102T010000
TZOFFSETFROM:-0400
TZOFFSETTO:-0500
TZNAME:EST
END:STANDARD
END:VTIMEZONE
END:VCALENDAR