BEGIN:VCALENDAR
VERSION:2.0
PRODID:-//wp-events-plugin.com//7.2.3.1//EN
TZID:America/New_York
X-WR-TIMEZONE:America/New_York
BEGIN:VEVENT
UID:155804@kingstonhappenings.org
DTSTART;TZID=America/New_York:20260315T100000
DTEND;TZID=America/New_York:20260315T160000
DTSTAMP:20260316T123709Z
URL:https://kingstonhappenings.org/events/maple-fest-2026/
SUMMARY:Maple Fest 2026
DESCRIPTION:Join us for Maple Fest 2026 at The Ashokan Center on Sunday\, M
 arch 15th from 10 AM – 4 PM!\nDelicious pancake breakfast &amp\; additio
 nal refreshments will be available for purchase and are not included in yo
 ur ticket. Vegan and Gluten-Free options available.\nThe day will be fille
 d with live music\, guided hikes\, tree-tapping\, maple syrup-making demon
 strations in the Sugar Shack\, Colonial craft demonstrations\, kids’ act
 ivities\, and more!\nLive Music Schedule:\n10:30 – 11:30 Conor Wenk11:45
  – 12:45 Jay &amp\; Molly1:00 – 2:00 Strawberry Hill Fiddlers2:15 – 
 3:45 Bugs on a Log with caller Nicole Ball\nTime: 10:00 am – 4:00 pm
ATTACH;FMTTYPE=image/jpeg:https://kingstonhappenings.org/wp-content/upload
 s/2026/03/600336271_1343026917855355_3087620990657765697_n.jpg
CATEGORIES:@Featured,@Newsletter,Community,For kids,Market
LOCATION:Ashokan Center\, 477 Beaverkill Rd\, Olivebridge\, NY\, 12461\, 
GEO:41.929319;-74.202116
X-APPLE-STRUCTURED-LOCATION;VALUE=URI;X-ADDRESS=477 Beaverkill Rd\, Olivebr
 idge\, NY\, 12461\, ;X-APPLE-RADIUS=100;X-TITLE=Ashokan Center:geo:41.9293
 19,-74.202116
END:VEVENT
BEGIN:VTIMEZONE
TZID:America/New_York
X-LIC-LOCATION:America/New_York
BEGIN:DAYLIGHT
DTSTART:20260308T030000
TZOFFSETFROM:-0500
TZOFFSETTO:-0400
TZNAME:EDT
END:DAYLIGHT
END:VTIMEZONE
END:VCALENDAR