BEGIN:VCALENDAR
VERSION:2.0
PRODID:-//wp-events-plugin.com//7.2.3.1//EN
TZID:America/New_York
X-WR-TIMEZONE:America/New_York
BEGIN:VEVENT
UID:152791@kingstonhappenings.org
DTSTART;TZID=America/New_York:20251123T000000
DTEND;TZID=America/New_York:20251123T150000
DTSTAMP:20251122T201921Z
URL:https://kingstonhappenings.org/events/madness-bard-baroque-ensemble-co
 ncert-tempo/
SUMMARY:Madness! Bard Baroque Ensemble Concert @ TEMPO
DESCRIPTION:The Bard Baroque Ensemble's concert "Madness!" is scheduled for
  today\, Sunday\, November 23\, 2025\, from 3:00 PM to 4:30 PM EST at Temp
 o Arts in Kingston\, NY. \n\n&nbsp\;\n\nhttps://www.viewcy.com/event/madn
 ess
ATTACH;FMTTYPE=image/jpeg:https://kingstonhappenings.org/wp-content/upload
 s/2025/11/2025-11-23-Bard-Baroque-Ensemble-at-TEMPO-Picture-1920px-wide.jp
 eg
CATEGORIES:@Featured,Music,Theater
LOCATION:Tempo Arts\, 29 Wurts St. \, KINGSTON\, NY\, 12401\, United States
GEO:41.918241;-73.986437
X-APPLE-STRUCTURED-LOCATION;VALUE=URI;X-ADDRESS=29 Wurts St. \, KINGSTON\, 
 NY\, 12401\, United States;X-APPLE-RADIUS=100;X-TITLE=Tempo Arts:geo:41.91
 8241,-73.986437
END:VEVENT
BEGIN:VTIMEZONE
TZID:America/New_York
X-LIC-LOCATION:America/New_York
BEGIN:STANDARD
DTSTART:20251102T010000
TZOFFSETFROM:-0400
TZOFFSETTO:-0500
TZNAME:EST
END:STANDARD
END:VTIMEZONE
END:VCALENDAR