BEGIN:VCALENDAR
VERSION:2.0
PRODID:-//wp-events-plugin.com//7.2.3.1//EN
TZID:America/New_York
X-WR-TIMEZONE:America/New_York
BEGIN:VEVENT
UID:151830@kingstonhappenings.org
DTSTART;TZID=America/New_York:20251108T190000
DTEND;TZID=America/New_York:20251108T223000
DTSTAMP:20251103T160742Z
URL:https://kingstonhappenings.org/events/luminary-cafe/
SUMMARY:Luminary Cafe
DESCRIPTION:Join us for an enchanting evening at The Luminary Café Cabaret
 ! Step into a night of unforgettable dance and music\, featuring performan
 ces by The Luminelles\, Ashley\, The Lunachix\, Donna Barrett\, Desert Sin
 \, Barushka\, Elishiva\, and more. From Fusion Belly Dance to Traditional 
 Belly Dance—with a few surprises in store—each artist brings their own
  flair\, grace\, and artistry to the stage. Expect mesmerizing movement\, 
 stunning costumes\, and captivating music in a true feast for the eyes\, e
 ars\, and heart.\n\nAdding to the magic\, enjoy the beautiful sounds of th
 e Secret Garden Orkestrar\, Theresa Widmann\, and Vinny Colandrea\, weavin
 g rich layers of rhythm and melody throughout the evening.\n\nAnd when the
  show ends\, the night keeps going—we’ll clear the floor for an open d
 ance session\, for those who want to DANCE as well!\n\nBethany Hall @ The 
 Old Dutch Church Vintage Theather. \n\nDate: Saturday October 5th 2024\n\n
 Time: 7pm Refreshments\, 8pm Cabaret\, 9:30 Open Dance\n\n7pm- Come early 
 to hang out and get some Turkish refreshments and mocktails from MASA (ext
 ra charge) and explore the Secret Garden Orkestrar.\n\n8pm- The Cabaret Be
 gins\n\n9:30-10:30 - We transform the space and invite you to our Open Dan
 ce session!\n\nDress to impress and get ready for a night of art\, culture
 \, and dance!\n\nWe can't wait to share this magical evening with you!\n\n
 Tickets : https://www.eventbrite.com/e/luminary-cafe-iii-tickets-165750083
 2609?aff=oddtdtcreator
ATTACH;FMTTYPE=image/jpeg:https://kingstonhappenings.org/wp-content/upload
 s/2025/09/SQ-Luminary-Cafe-3-2025.png
CATEGORIES:@Featured,@Newsletter,Dance
LOCATION:Old Dutch Church\, 272 Wall St\, Kingston\, NY\, 12401\, United St
 ates
GEO:41.932863;-74.018839
X-APPLE-STRUCTURED-LOCATION;VALUE=URI;X-ADDRESS=272 Wall St\, Kingston\, NY
 \, 12401\, United States;X-APPLE-RADIUS=100;X-TITLE=Old Dutch Church:geo:4
 1.932863,-74.018839
END:VEVENT
BEGIN:VTIMEZONE
TZID:America/New_York
X-LIC-LOCATION:America/New_York
BEGIN:STANDARD
DTSTART:20251102T010000
TZOFFSETFROM:-0400
TZOFFSETTO:-0500
TZNAME:EST
END:STANDARD
END:VTIMEZONE
END:VCALENDAR