BEGIN:VCALENDAR
VERSION:2.0
PRODID:-//wp-events-plugin.com//7.2.3.1//EN
TZID:America/New_York
X-WR-TIMEZONE:America/New_York
BEGIN:VEVENT
UID:152630@kingstonhappenings.org
DTSTART;TZID=America/New_York:20251121T190000
DTEND;TZID=America/New_York:20251121T203000
DTSTAMP:20251110T124452Z
URL:https://kingstonhappenings.org/events/lucy-kaplansky-live-in-concert/
SUMMARY:Lucy Kaplansky Live in Concert
DESCRIPTION:Lucy Kaplansky is an acclaimed singer-songwriter of rare talent
 \, “a truly gifted performer with a bag full of enchanting songs” (The
  New Yorker) and “the troubadour laureate of modern city folk” (The Bo
 ston Globe). She has released nine critically acclaimed CDs\, two of which
  were awarded Best Pop Album of the year by the Association for Independen
 t Music. National Public Radio described her 2012 album Reunion as “a ma
 ster class in making the personal universal\,” and National Public Radio
 ’s Scott Simon called her new album Last Days of Summer\, released in Ju
 ne 2022\, “Absolutely wonderful….utterly beautiful and affecting… Lu
 cy sings songs from her life with resonance in ours.”\nLucy was part of 
 folk supergroup Cry Cry Cry with Dar Williams and Richard Shindell (which 
 The New Yorker dubbed “a collection of lovely harmonizing and pure emoti
 on”). Their album was an astonishing success in stores and on radio resu
 lting in a national tour of sold-out concerts\, as well as a national sold
 -out reunion tour in 2018.\nHer recording of Roxy Music’s “More than T
 his” has over 12 million streams on Spotify\, and she has been featured 
 on NPR’s All Things Considered\, Weekend Edition\, and Morning Edition a
 s well as BBC Radio 2 and 4\, and CBS Sunday Morning\, and has sung harmon
 y on albums by Suzanne Vega\, Bryan Ferry\, Nanci Griffith and Shawn Colvi
 n. Her song “Guilty as Sin” was featured in the NBC television show 
 “Ed\,” and her vocals were featured in the Tom Cruise film “The Firm
 .”
ATTACH;FMTTYPE=image/jpeg:https://kingstonhappenings.org/wp-content/upload
 s/2025/11/Lucy-Kablansky-sm.png
CATEGORIES:@Featured,Music
LOCATION:Rosendale Theater\, 408 Main St\, Rosendale\, New York\, 12472\, U
 nited States
GEO:41.8441401;-74.0821133
X-APPLE-STRUCTURED-LOCATION;VALUE=URI;X-ADDRESS=408 Main St\, Rosendale\, N
 ew York\, 12472\, United States;X-APPLE-RADIUS=100;X-TITLE=Rosendale Theat
 er:geo:41.8441401,-74.0821133
END:VEVENT
BEGIN:VTIMEZONE
TZID:America/New_York
X-LIC-LOCATION:America/New_York
BEGIN:STANDARD
DTSTART:20251102T010000
TZOFFSETFROM:-0400
TZOFFSETTO:-0500
TZNAME:EST
END:STANDARD
END:VTIMEZONE
END:VCALENDAR