BEGIN:VCALENDAR
VERSION:2.0
PRODID:-//wp-events-plugin.com//7.2.3.1//EN
TZID:America/New_York
X-WR-TIMEZONE:America/New_York
BEGIN:VEVENT
UID:156396@kingstonhappenings.org
DTSTART;TZID=America/New_York:20260423T193000
DTEND;TZID=America/New_York:20260423T193000
DTSTAMP:20260420T164324Z
URL:https://kingstonhappenings.org/events/lotus-spirit-of-santana/
SUMMARY:LOTUS “Spirit of Santana”
DESCRIPTION:LOTUS “Spirit of Santana” is a 7 piece band lead by Spanish
  guitarist Dan Garcia and comprised of stellar New York City veteran music
 ians\, together recreating the authentic and inspiring music of the great 
 Carlos Santana.\nSantana has been rocking the world since the 60’s\, bri
 nging together the most diverse audience to enjoy an authentic blend of ro
 ck\, funk\, latin and pop.\n\n\nAs Carlos Santana says himself: “Music h
 as the power to bring light in to darkness.” LOTUS has the power to brin
 g the music of SANTANA to light\, with soulful and profound guitar solos\,
  phenomenal vocalists and stunning rhythm section. The brilliant collabora
 tion of this band is a spellbinding experience\; a must see!\n\n\n
ATTACH;FMTTYPE=image/jpeg:https://kingstonhappenings.org/wp-content/upload
 s/2026/04/628457518_1315632070599062_6866444958294596443_n.jpg
CATEGORIES:@Featured,@Newsletter,Music,Nightlife and entertainment
LOCATION:The Falcon\, 1348 Route 9W\, Marlboro\, NY\, United States
GEO:41.6061213;-73.97065420000001
X-APPLE-STRUCTURED-LOCATION;VALUE=URI;X-ADDRESS=1348 Route 9W\, Marlboro\, 
 NY\, United States;X-APPLE-RADIUS=100;X-TITLE=The Falcon:geo:41.6061213,-7
 3.97065420000001
END:VEVENT
BEGIN:VTIMEZONE
TZID:America/New_York
X-LIC-LOCATION:America/New_York
BEGIN:DAYLIGHT
DTSTART:20260308T030000
TZOFFSETFROM:-0500
TZOFFSETTO:-0400
TZNAME:EDT
END:DAYLIGHT
END:VTIMEZONE
END:VCALENDAR