BEGIN:VCALENDAR
VERSION:2.0
PRODID:-//wp-events-plugin.com//7.2.3.1//EN
TZID:America/New_York
X-WR-TIMEZONE:America/New_York
BEGIN:VEVENT
UID:152584@kingstonhappenings.org
DTSTART;TZID=America/New_York:20251116T190000
DTEND;TZID=America/New_York:20251116T210000
DTSTAMP:20251110T124724Z
URL:https://kingstonhappenings.org/events/lost-rondout-screening-and-qa-wi
 th-filmmaker-and-journalist-lynn-woods/
SUMMARY:Lost Rondout Screening and Q&A with Filmmaker and Journalist Lynn W
 oods
DESCRIPTION:Kingston-based writer and filmmaker Lynn Woods will show the do
 cumentary "Lost Rondout: A Story of Urban Removal" at Curious magazine &am
 p\; gift shop in Midtown Kingston\, followed by an informal discussion and
  Q&amp\;A. A film by Stephen Blauweiss &amp\; Lynn Woods\, "Lost Rondout" 
 tells the story of Downtown Kingston's ill-conceived urban renewal project
  in the late 1960s\, through hundreds of photographs and more than 40 inte
 rviews. FREE! Light refreshments served. Space is limited. RSVP to hello@c
 uriouskingston.com. Info at curiouskingston.com.
ATTACH;FMTTYPE=image/jpeg:https://kingstonhappenings.org/wp-content/upload
 s/2025/11/LR-image-copy.jpg
CATEGORIES:@Featured,@Newsletter,History,Movies
LOCATION:Curious\, 352 Broadway\, KINGSTON\, NY\, 12401\, United States
GEO:41.926081;-73.993474
X-APPLE-STRUCTURED-LOCATION;VALUE=URI;X-ADDRESS=352 Broadway\, KINGSTON\, N
 Y\, 12401\, United States;X-APPLE-RADIUS=100;X-TITLE=Curious:geo:41.926081
 ,-73.993474
END:VEVENT
BEGIN:VTIMEZONE
TZID:America/New_York
X-LIC-LOCATION:America/New_York
BEGIN:STANDARD
DTSTART:20251102T010000
TZOFFSETFROM:-0400
TZOFFSETTO:-0500
TZNAME:EST
END:STANDARD
END:VTIMEZONE
END:VCALENDAR