BEGIN:VCALENDAR
VERSION:2.0
PRODID:-//wp-events-plugin.com//7.2.3.1//EN
TZID:America/New_York
X-WR-TIMEZONE:America/New_York
BEGIN:VEVENT
UID:156416@kingstonhappenings.org
DTSTART;TZID=America/New_York:20260606T193000
DTEND;TZID=America/New_York:20260606T210000
DTSTAMP:20260421T183302Z
URL:https://kingstonhappenings.org/events/live-theatre-fun-home-2/
SUMMARY:Live Theatre: Fun Home
DESCRIPTION:Director Sydnie Grosberg Ronga\nMusical Director Christopher Bl
 acker\nChoreographer Laura Olson\n\nMusic Jeanine Tesori\nBook &amp\; Lyri
 cs Lisa Kron\nBased on the Graphic Novel by Alison Bechdel\n\nA Co-Product
 ion of Rosendale Theatre Collective &amp\; Phoenicia Playhouse\n\nWhen her
  father dies unexpectedly\, graphic novelist Alison dives deep into her pa
 st to tell the story of the volatile\, brilliant\, one-of-a-kind man whose
  temperament and secrets defined her family and her life. Moving between p
 ast and present\, Alison relives her unique childhood playing at the famil
 y’s Bechdel Funeral Home\, her growing understanding of her own sexualit
 y\, and the looming\, unanswerable questions about her father’s hidden d
 esires. Fun Home is a refreshingly honest\, wholly original musical about 
 seeing your parents through grown-up eyes.\n\nCAST\nAlex Petrova\nJulie De
 ltuvia\nCharlotte Lang\nJohn Remington\nAimee Trumbore\nAustin Sweeny\nPet
 er Torborg\nSid Quinsaat\nEzra Czermerys\n\n– Five Tony Awards (2015)\, 
 including Best Musical\, Best Score\, and Best Book\n– Three Lucille Lor
 tel Awards (2014)\, including Outstanding Musical\n– Two Obie Awards (20
 14)\, including Outstanding Musical\n– One Outer Critics Circle Award (2
 014) for Outstanding Off-Broadway Musical\n– FINALIST: 2014 Pulitzer Pri
 ze for Drama\n– NOMINEE: Three Olivier Awards (2019)\, including Best Ne
 w Musical
ATTACH;FMTTYPE=image/jpeg:https://kingstonhappenings.org/wp-content/upload
 s/2026/04/Fun-Home-sm-4.png
CATEGORIES:@Featured,Theater
LOCATION:Rosendale Theater\, 408 Main St\, Rosendale\, New York\, 12472\, U
 nited States
GEO:41.8441401;-74.0821133
X-APPLE-STRUCTURED-LOCATION;VALUE=URI;X-ADDRESS=408 Main St\, Rosendale\, N
 ew York\, 12472\, United States;X-APPLE-RADIUS=100;X-TITLE=Rosendale Theat
 er:geo:41.8441401,-74.0821133
END:VEVENT
BEGIN:VTIMEZONE
TZID:America/New_York
X-LIC-LOCATION:America/New_York
BEGIN:DAYLIGHT
DTSTART:20260308T030000
TZOFFSETFROM:-0500
TZOFFSETTO:-0400
TZNAME:EDT
END:DAYLIGHT
END:VTIMEZONE
END:VCALENDAR