BEGIN:VCALENDAR
VERSION:2.0
PRODID:-//wp-events-plugin.com//7.2.3.1//EN
TZID:America/New_York
X-WR-TIMEZONE:America/New_York
BEGIN:VEVENT
UID:152201@kingstonhappenings.org
DTSTART;TZID=America/New_York:20251016T183000
DTEND;TZID=America/New_York:20251016T213000
DTSTAMP:20251013T172035Z
URL:https://kingstonhappenings.org/events/live-dream-folk-music-anterra-pe
 ter-stone-at-monument-gallery-w-evelyn-and-nora-knight/
SUMMARY:Live Dream-Folk Music - Anterra &amp\; Peter Stone at Monument Gall
 ery w/ Evelyn and Nora Knight
DESCRIPTION:Anterra &amp\; Peter Stone at Monument Gallery in Kingston \nw/
  Evelyn and Nora Knight\n\n\nAnterra &amp\; Peter Stone are a dream-folk d
 uo\, each songwriters themselves\, who are deeply committed to the magic a
 nd alchemy of presence and music. They work to translate both the mystical
  and the difficult into cathartic songs of healing. Their songs are ethere
 al in sound\, and dance between somber and hopeful in tone. Anterra’s cr
 ystalline voice draws playful melodies amongst Peter’s dulcet vocals and
  the lush instrumentation they weave together. Come for an evening of haun
 ting enchantment.\n\n\nSo honored to be joined by Hudson Valley locals Eve
 lyn and Nora Knight!\n\n\nFree concert\nDoors at 6:30pm\nBYOB\n\nMonument 
 Gallery\n29 W Strand St\, Kingston\, NY 12401\n\nhttps://anterramusic.com/
 \nhttps://peterstonemusic.com/\n\n\n
ATTACH;FMTTYPE=image/jpeg:https://kingstonhappenings.org/wp-content/upload
 s/2025/10/kingston-Oct-Monument-compressed.jpeg
CATEGORIES:@Featured,@Newsletter,Art,Community,Music
LOCATION:MONUMENT Hv\, 394 Hasbrouck Ave.\, Kingston\, New York\, 12401\, U
 nited States
GEO:41.927782;-73.994584
X-APPLE-STRUCTURED-LOCATION;VALUE=URI;X-ADDRESS=394 Hasbrouck Ave.\, Kingst
 on\, New York\, 12401\, United States;X-APPLE-RADIUS=100;X-TITLE=MONUMENT 
 Hv:geo:41.927782,-73.994584
END:VEVENT
BEGIN:VTIMEZONE
TZID:America/New_York
X-LIC-LOCATION:America/New_York
BEGIN:DAYLIGHT
DTSTART:20250309T030000
TZOFFSETFROM:-0500
TZOFFSETTO:-0400
TZNAME:EDT
END:DAYLIGHT
END:VTIMEZONE
END:VCALENDAR