BEGIN:VCALENDAR
VERSION:2.0
PRODID:-//wp-events-plugin.com//7.2.3.1//EN
TZID:America/New_York
X-WR-TIMEZONE:America/New_York
BEGIN:VEVENT
UID:152404@kingstonhappenings.org
DTSTART;TZID=America/New_York:20251022T193000
DTEND;TZID=America/New_York:20251022T193000
DTSTAMP:20251027T132753Z
URL:https://kingstonhappenings.org/events/live-at-the-falcon-and-dogo-du-t
 ogo/
SUMMARY:Live at The Falcon and DOGO du Togo
DESCRIPTION:"In this new opus\, he (Dogo) offers a hypnotic sound that comb
 ines psychedelic rock\, funk and voodoo melodies with great energy" - Le M
 onde (FR)\nFollowing on from his 2022 debut\, Togolese singer and guitaris
 t Dogo du Togo introduces his new Lomé-based Alagaa Beat Band with the al
 bum Avoudé\nRecorded in less than 48 hours with help from renowned engine
 er Patrick Jauneaud (Elton John\, Kate Bush\, Queen)\, Avoudé represents 
 a new evolution of Togolese music and makes a powerful cultural statement:
  hard-hitting psychedelic Afro-rock that builds upon the country’s music
 al traditions while creating a new sound to energise its future.
ATTACH;FMTTYPE=image/jpeg:https://kingstonhappenings.org/wp-content/upload
 s/2025/10/531926010_1172539254908345_4888736961261636899_n.jpg
CATEGORIES:@Featured,@Newsletter,Music,Nightlife and entertainment
LOCATION:The Falcon\, 1348 Route 9W\, Marlboro\, NY\, United States
GEO:41.6061213;-73.97065420000001
X-APPLE-STRUCTURED-LOCATION;VALUE=URI;X-ADDRESS=1348 Route 9W\, Marlboro\, 
 NY\, United States;X-APPLE-RADIUS=100;X-TITLE=The Falcon:geo:41.6061213,-7
 3.97065420000001
END:VEVENT
BEGIN:VTIMEZONE
TZID:America/New_York
X-LIC-LOCATION:America/New_York
BEGIN:DAYLIGHT
DTSTART:20250309T030000
TZOFFSETFROM:-0500
TZOFFSETTO:-0400
TZNAME:EDT
END:DAYLIGHT
END:VTIMEZONE
END:VCALENDAR