BEGIN:VCALENDAR
VERSION:2.0
PRODID:-//wp-events-plugin.com//7.2.3.1//EN
TZID:America/New_York
X-WR-TIMEZONE:America/New_York
BEGIN:VEVENT
UID:152624@kingstonhappenings.org
DTSTART;TZID=America/New_York:20251114T193000
DTEND;TZID=America/New_York:20251114T193000
DTSTAMP:20251109T224628Z
URL:https://kingstonhappenings.org/events/live-and-unfinished-2/
SUMMARY:Live  and Unfinished
DESCRIPTION:Live and Unfinished: A Night of New Theatre\, features Jim Metz
 ner\, Jean E Taylor and Frank Boyd in three solo new and unfinished theatr
 e pieces.\n\nIn Rediscovering Poppa by Jim Metzner\, an unexpected gift ig
 nites a poignant\, humorous journey back in time to a shtetl in the old co
 untry\, searching for a grandfather‘s roots\, navigating a few rabbit ho
 les along the way.\n\nIn Return of the Wild Hare by Jean E Taylor\, A res
 earch librarian finds herself leading a resistance movement\, known as the
  Wild Hares. The wild hare possesses many qualities currently missing from
  our civic landscape. She shares details\, insights\, questions and an urg
 ent call to action\, as those who would quiet her\, are nearing the door.\
 n\nIn Bullpen by Frank Boyd\, an eccentric and verbose minor league baseba
 ll player prepares his teammates for the end of civilization. Actor/writer
  Frank Boyd presents 20-ish minutes of brand new material from a new ful
 l-length piece he is working on.\n\nJim Metzner is best known as the produ
 cer of the award-winning radio series and podcast\, Pulse of the Planet. H
 e’s a graduate of Yale Drama School\, where he appeared in Andre Gregory
 ‘s production of The Bacchae. Jim starred in the London premier of Sam 
 Shepherd‘s Red Cross.  His play Passover Dreams\, featuring Theodore Bi
 kel and Academy Award winner Melissa Leo\, won a Gabriel award\, and was b
 roadcast nationwide over American Public Radio. Cast against type\, Jim ha
 s appeared in several productions as the angel in It’s a Wonderful Life.
 \n\nJean E. Taylor is the Director of the Teaching Artistry Program at Lin
 coln Center. She is a recipient of the Directors Emeriti Award and has rep
 resented LC at the International Teaching Artist Conferences (ITAC) in Osl
 o\, Brisbane\, Edinburgh\, New York City\, Seoul\, and Auckland. Jean and 
 her Intergenerational Co-Mentor\, Zoey Peacock Jones\, recently launched T
 he Office of Kindness\, an interactive clown-inspired installation offerin
 g whimsy as a remedy for life’s daily dilemmas. Jean teaches theatrical 
 clown for The New School’s College of Performing Arts and for the Barrow
  Group Arts Center. Her approach to theatrical clown has been published in
  Movement for Actors\, Allworth Press. Jean serves on ITAC’s Leadership 
 Committee and is a board member for the Maxine Greene Institute for Aesthe
 tic Education and Social Imagination.\n\nFrank Boyd is an actor and write
 r based in the Hudson Valley. He has appeared off-Broadway in Gatz (Publ
 ic Theatre)\, Is This A Room (Vineyard Theatre) and The Select (New 
 York Theatre Workshop). Frank has toured nationally and internationally\, 
 performing with Elevator Repair Service\, Young Jean Lee’s Theater Compa
 ny\, Half Straddle and the TEAM. Frank is also the writer and performer of
  The Holler Sessions\, a solo show about a jazz DJ that was a New York 
 Time’s Critics’ Pick before touring nationally\, including a run at t
 he Guthrie Theatre. TV credits include: FBI\, Blue Bloods\, Z Nation. Loc
 al audiences might remember him from God of Carnage (PAW). Frank and his w
 ife Nila own and operate Clubhouse Vintage in Rosendale.
ATTACH;FMTTYPE=image/jpeg:https://kingstonhappenings.org/wp-content/upload
 s/2025/11/Liveunfinished-sm-1.png
CATEGORIES:@Featured,Theater
LOCATION:Rosendale Theater\, 408 Main St\, Rosendale\, New York\, 12472\, U
 nited States
GEO:41.8441401;-74.0821133
X-APPLE-STRUCTURED-LOCATION;VALUE=URI;X-ADDRESS=408 Main St\, Rosendale\, N
 ew York\, 12472\, United States;X-APPLE-RADIUS=100;X-TITLE=Rosendale Theat
 er:geo:41.8441401,-74.0821133
END:VEVENT
BEGIN:VTIMEZONE
TZID:America/New_York
X-LIC-LOCATION:America/New_York
BEGIN:STANDARD
DTSTART:20251102T010000
TZOFFSETFROM:-0400
TZOFFSETTO:-0500
TZNAME:EST
END:STANDARD
END:VTIMEZONE
END:VCALENDAR