BEGIN:VCALENDAR
VERSION:2.0
PRODID:-//wp-events-plugin.com//7.2.3.1//EN
TZID:America/New_York
X-WR-TIMEZONE:America/New_York
BEGIN:VEVENT
UID:151467@kingstonhappenings.org
DTSTART;TZID=America/New_York:20250816T193000
DTEND;TZID=America/New_York:20250816T193000
DTSTAMP:20250812T145921Z
URL:https://kingstonhappenings.org/events/little-rock/
SUMMARY:Little Rock
DESCRIPTION:Little Rock is the latest concoction of Hudson Valley brewed ba
 nd leader\, Vito Petroccitto. This local legend has gathered notable veter
 ans: Bassist\, Mark Dann (Rod MacDonald\, 420 Funk Mob)\; Drummer\, Eric P
 arker (Joe Cocker\, Bonnie Raitt\, Steve Winwood\, Pousette Dart Band)\; a
 nd keyboardist Ross Rice (Peter Frampton\, Duck Dunn) to bring you an ecle
 ctic evening of original tunes peppered with obscure covers. You’ll visi
 t Americana\, Gritty Funk\, and Bluesy Rock n Roll\; the kind of live musi
 c you’ve been longing for! Playing some good old fashioned Hudson Valley
  homegrown Music! Think Little Feat meets John Fogarty\, or NRBQ meets the
  Neville Brothers\, then sprinkle a little Grateful Dead or New Riders on 
 top and you’ve got Vito Petroccitto’s Little
ATTACH;FMTTYPE=image/jpeg:https://kingstonhappenings.org/wp-content/upload
 s/2025/08/490641321_1104124978185798_5477423501745846686_n.jpg
CATEGORIES:@Featured,@Newsletter,Music,Nightlife and entertainment
LOCATION:High Falls Cafe'\, 2842 Rte. 209\, Marbletown \, NY\, 12401\, Unit
 ed States
GEO:41.884785;-74.111861
X-APPLE-STRUCTURED-LOCATION;VALUE=URI;X-ADDRESS=2842 Rte. 209\, Marbletown 
 \, NY\, 12401\, United States;X-APPLE-RADIUS=100;X-TITLE=High Falls Cafe':
 geo:41.884785,-74.111861
END:VEVENT
BEGIN:VTIMEZONE
TZID:America/New_York
X-LIC-LOCATION:America/New_York
BEGIN:DAYLIGHT
DTSTART:20250309T030000
TZOFFSETFROM:-0500
TZOFFSETTO:-0400
TZNAME:EDT
END:DAYLIGHT
END:VTIMEZONE
END:VCALENDAR