BEGIN:VCALENDAR
VERSION:2.0
PRODID:-//wp-events-plugin.com//7.2.3.1//EN
TZID:America/New_York
X-WR-TIMEZONE:America/New_York
BEGIN:VEVENT
UID:156002@kingstonhappenings.org
DTSTART;TZID=America/New_York:20260327T190000
DTEND;TZID=America/New_York:20260327T190000
DTSTAMP:20260330T133804Z
URL:https://kingstonhappenings.org/events/lindsey-webster-colony/
SUMMARY:Lindsey Webster @ Colony
DESCRIPTION:Some artists possess an unrivaled ability to channel their auth
 entic selves in their music. The striking\, earthy and amiable chart-toppi
 ng vocalist\, Lindsey Webster\, exemplifies this talent. Popmatters crowns
  her as “Classy\, consistent\, and exceptional” while All About Jazz d
 eclares she’s “keeping the tradition alive and taking it to the next l
 evel.” “I really feel comfortable in my skin right now\,” confides t
 he Woodstock native who admits that Bob Marley is her #1 most streamed art
 ist followed by the eclectic rotation of Yo-Yo Ma\, Mos Def\, Olivia Dean\
 , Aaliyah\, Mariah Carey and Jeff Buckley. “I’ve got incredible people
  in my life\, and I’ve learned to discern what is best for me. It’s al
 l about remembering that\, sprinkled throughout the trying times are still
  sunny days\, joy\, and love.” Lindsey’s equanimous nature\, enviable 
 vocal range and ability to craft candid and deceptively simple universal t
 hemes into timeless anthems\, have garnered her a devoted international fa
 nbase. Soultracks once nailed it by declaring\, “If Carole King and Sade
  had a kid\, she would be Lindsey Webster.” Lindsey remarkably is the on
 ly other vocalist since Sade in 2010 to have had a #1 hit on the Billboard
  Contemporary Jazz charts. Lindsey’s sophisticated fusion of Neo-soul\, 
 R&amp\;B\, Jazz and Pop\, shines on her anticipated seventh recording\, Mu
 sic In Me (February 27\, 2026). She is joined by her long-time musical par
 tner and pianist Keith Slattery\, as well as a several Grammy-winning arti
 sts\, including R&amp\;B favorites Stokley (Mint Condition\, Prince\, Mari
 ah Carey\, Janet Jackson) and Anthony Hamilton (D’Angelo\, Angie Stone J
 ill Scott\, Al Green). Stokely not only duets with Lindsey but plays drums
  and percussion throughout the album. Music In Me also includes guest spot
 s from Jazz/Hip-Hop trumpeter Keyon Harrold (PJ Morton\, Beyoncé\, Robert
  Glasper\, Maxwell)\, guitarist Isaiah Sharkey (D’Angelo\, John Mayer\, 
 Patti LaBelle\, Keith Urban)\, and rapper/composer Kev Choice (Lauryn Hill
 \, Michael Frante\, Ledisi\, Goapele).Music In Me is Lindsey’s first alb
 um featuring a duet. Collaborating with another singer is something she ha
 s long wanted to do and finally accomplishes\, twice\, on what she calls h
 er ‘lucky number seven album!’ She shares\, “It’s a blessing to ha
 ve the presence of two absolute icons.” “I have been singing along to 
 ‘Po’ Folks’ since 2003 when I first heard Anthony. We all wondered i
 f Charlene was ever gonna come home. Add to that\, the fact that Stokley a
 greed to play drums and percussion on the album as well as sing! I have to
  say that I see these blessings in front of me and it makes my heart so fu
 ll. Especially after experiencing such grief for so long!”\nLindsey Webs
 ter’s versatile and compelling vocals simply get better and better with 
 every recording. At times her sublime voice calls to mind such iconic sing
 ers as Mariah Carey\, Anita Baker and Roberta Flack. Her earnest and purpo
 seful songwriting strikes a chord on Music In Me as she explores themes of
  love and loss. The album was written\, recorded\, produced and mixed over
  a period of three years. Lindsey’s soulful\, jazzy and hypnotic sound a
 re deeply rooted in her partnership with pianist Keith Slattery. Music In 
 Me’s title track and enticing first single\, opens the moving 13-track m
 usical odyssey. It’s a soulful testament to the saving grace of music. 
 “Music is my best friend. It helps move our emotions. You feel different
 ly after you listen. It’s real-time. I have relied on music my entire li
 fe and it has been an escape for as long as I can remember. It has saved m
 y life.”\nRaised in the creative haven of Woodstock\, NY\, Lindsey Webst
 er turned away from medical school to make history in the music world\, be
 coming the first vocalist since Sade to top the Billboard Contemporary Jaz
 z chart with her 2016 hit "Fool Me Once." Known for her soulful fusion of 
 R&amp\;B and Jazz\, Webster has enjoyed a decade of sustained chart domina
 nce with acclaimed albums like Back To Your Heart and Reasons. Now\, she m
 arks a bold new chapter with her 2026 release\, Music In Me featuring coll
 aborations with Stokley and Anthony Hamilton. The album stands as her most
  personal work to date\, further cementing her status as a premier voice i
 n contemporary music. Lindsey Webster concludes\, “Music has a way of un
 iting people even it that is not its goal. It’s sweet to see fans who ha
 ve met for the first time at a show become FB friends and stay in touch. I
  wish we weren’t all so deeply focused on our differences by default. I 
 like to exercise curiosity in this regard. It’s kind of a given in life 
 and shouldn’t be a surprise that someone would have a different belief t
 han you. But still\, we argue and wage wars over it! I think if we all foc
 used more on the things we love and enjoy\, we’d be way better off.” O
 ne thing for sure is that we are all better off with the release of Lindse
 y Webster’s uplifting and moving\, Music In Me. Sit back\, press play an
 d collect your blessings.\nhttps://www.lindseywebstermusic.com/
ATTACH;FMTTYPE=image/jpeg:https://kingstonhappenings.org/wp-content/upload
 s/2026/03/625162961_1554778203114403_9127925898593655784_n-e1774272194990.
 jpg
CATEGORIES:@Featured,@Newsletter,Music,Nightlife and entertainment
LOCATION:Colony Woodstock NY\, 22 Rock City Rd\, Woodstock\, New York\, Uni
 ted States
GEO:42.0424924;-74.11799489999999
X-APPLE-STRUCTURED-LOCATION;VALUE=URI;X-ADDRESS=22 Rock City Rd\, Woodstock
 \, New York\, United States;X-APPLE-RADIUS=100;X-TITLE=Colony Woodstock NY
 :geo:42.0424924,-74.11799489999999
END:VEVENT
BEGIN:VTIMEZONE
TZID:America/New_York
X-LIC-LOCATION:America/New_York
BEGIN:DAYLIGHT
DTSTART:20260308T030000
TZOFFSETFROM:-0500
TZOFFSETTO:-0400
TZNAME:EDT
END:DAYLIGHT
END:VTIMEZONE
END:VCALENDAR