BEGIN:VCALENDAR
VERSION:2.0
PRODID:-//wp-events-plugin.com//7.2.3.1//EN
TZID:America/New_York
X-WR-TIMEZONE:America/New_York
BEGIN:VEVENT
UID:156013@kingstonhappenings.org
DTSTART;TZID=America/New_York:20260327T200000
DTEND;TZID=America/New_York:20260327T200000
DTSTAMP:20260324T190516Z
URL:https://kingstonhappenings.org/events/lilith-at-the-barn/
SUMMARY:Lilith at the Barn
DESCRIPTION:“Lilith at the Barn” at the legendary @levonhelmstudios Fri
 day\, March 27th! A powerful night celebrating the spirit\, strength\, and
  magic of women’s voices\; past\, present\, and future!\nPresented by Ra
 dio Woodstock Cares Foundation and Lilith Scare\, this very special Lilith
  Fair tribute brings together an incredible lineup featuring:\nPerforming 
 Artists Include*:Amy Helm • Simi Stone • Storey Littleton • Calder T
 he Destroyer • Chaney Sims • The Goddess Party Sarah Power • Sandy B
 ell • Laura Stevenson Jayla Kai • Layla • Laura Elliott • Vanessa 
 Camacho Stella Prince • Allie Young • Kaia Dedek • Carly Pearl • K
 endra Mckinley\n*Lineup is subject to change at any time.\n Plus on-site 
 tarot readings from Cazimi Modern TarotThis one-of-a-kind evening supports
  two incredible local organizations: Washbourne House Grace Smith House\
 nWith support from our amazing Hudson Valley community including HERbal Wo
 odstock\, Hudson Valley Jane\, SarahDavida and Woodstock General Dentistry
 \n Lilith at the Barn� Levon Helm Studios� Friday\, March 27Tickets
  at RadioWoodstock.com
ATTACH;FMTTYPE=image/jpeg:https://kingstonhappenings.org/wp-content/upload
 s/2026/03/653037299_950858410661214_173660354988937849_n.jpg
CATEGORIES:@Featured,@Newsletter,Music,Nightlife and entertainment
LOCATION:Levon Helm Studios(aka The Barn)\, 160 Plochmann Lane\, Woodstock\
 , NY\, 12498\, United States
GEO:42.0481861;-74.09931949999998
X-APPLE-STRUCTURED-LOCATION;VALUE=URI;X-ADDRESS=160 Plochmann Lane\, Woodst
 ock\, NY\, 12498\, United States;X-APPLE-RADIUS=100;X-TITLE=Levon Helm Stu
 dios(aka The Barn):geo:42.0481861,-74.09931949999998
END:VEVENT
BEGIN:VTIMEZONE
TZID:America/New_York
X-LIC-LOCATION:America/New_York
BEGIN:DAYLIGHT
DTSTART:20260308T030000
TZOFFSETFROM:-0500
TZOFFSETTO:-0400
TZNAME:EDT
END:DAYLIGHT
END:VTIMEZONE
END:VCALENDAR