BEGIN:VCALENDAR
VERSION:2.0
PRODID:-//wp-events-plugin.com//7.2.3.1//EN
TZID:America/New_York
X-WR-TIMEZONE:America/New_York
BEGIN:VEVENT
UID:156006@kingstonhappenings.org
DTSTART;TZID=America/New_York:20260325T193000
DTEND;TZID=America/New_York:20260325T193000
DTSTAMP:20260330T133746Z
URL:https://kingstonhappenings.org/events/lil-ed-the-blues-imperials/
SUMMARY:Lil’ Ed & The Blues Imperials
DESCRIPTION:In Chicago\, a city overflowing with unrivaled blues talent\, w
 orld-renowned Lil’ Ed &amp\; The Blues Imperials have been standing tall
  for over 30 years. The band’s big sound\, fueled by Lil’ Ed’s glori
 ously rollicking slide work and deep blues string bending\, along with his
  rough-edged\, soulful vocals\, is as real and hard-hitting as Chicago blu
 es gets. The Chicago Sun-Times says\, “Lil’ Ed &amp\; The Blues Imperi
 als are the hottest purveyors of bottleneck boogie to come out of Chicago 
 since Hound Dog Taylor.”\n\n&nbsp\;\n\nDining 5:30-9pm. Music 7:30pm.
ATTACH;FMTTYPE=image/jpeg:https://kingstonhappenings.org/wp-content/upload
 s/2026/03/594078372_1266592532169683_1500065141519950024_n.jpg
CATEGORIES:@Featured,@Newsletter,Music,Nightlife and entertainment
LOCATION:The Falcon\, 1348 Route 9W\, Marlboro\, NY\, United States
GEO:41.6061213;-73.97065420000001
X-APPLE-STRUCTURED-LOCATION;VALUE=URI;X-ADDRESS=1348 Route 9W\, Marlboro\, 
 NY\, United States;X-APPLE-RADIUS=100;X-TITLE=The Falcon:geo:41.6061213,-7
 3.97065420000001
END:VEVENT
BEGIN:VTIMEZONE
TZID:America/New_York
X-LIC-LOCATION:America/New_York
BEGIN:DAYLIGHT
DTSTART:20260308T030000
TZOFFSETFROM:-0500
TZOFFSETTO:-0400
TZNAME:EDT
END:DAYLIGHT
END:VTIMEZONE
END:VCALENDAR