BEGIN:VCALENDAR
VERSION:2.0
PRODID:-//wp-events-plugin.com//7.2.3.1//EN
TZID:America/New_York
X-WR-TIMEZONE:America/New_York
BEGIN:VEVENT
UID:145969@kingstonhappenings.org
DTSTART;TZID=America/New_York:20250226T180000
DTEND;TZID=America/New_York:20250402T200000
DTSTAMP:20250324T150918Z
URL:https://kingstonhappenings.org/event-recurring/life-drawing-for-everyo
 ne-2/
SUMMARY:Life Drawing for Everyone
DESCRIPTION:6 Wednesdays\nFeb 26\, Mar 5\, 12\,19\, 26\, Apr 2 (snow day Ap
 r 9)\n6 - 8pm\n\nAges 14 and Up\n\nPrice: $320\n\nHave fun and Learn to dr
 aw and paint. You will be taught the basics of traditional figure\, portra
 it\, and still-life drawing. These sessions are designed for everybody\, f
 rom curious hobbyists trying it out for the first time to those wanting to
  practice some serious illustration skills for art school or work. You wil
 l explore charcoal\, pencil\, pastels\, pen and ink\, and paint. All mater
 ials are provided.\n\n-----------------------------------------\n\nPlease 
 register at least a week in advance to guarantee your spot.\n\n-----------
 ------------------------------\n\nWe believe in access to art education fo
 r all. It takes the whole community to generate the equity our pay-what-yo
 u-can tuition generates. Behind the scenes\, we work to bridge the financi
 al gap between what our students can pay and what we need to sustain our p
 rograms. Please consider carefully before you use our discount codes. Disc
 ount codes and be found on our website while you register
CATEGORIES:@Featured,Art,Educational classes and lectures
LOCATION:Midtown Kingston Arts District and the D.R.A.W.\, 20 Cedar Street\
 , Kingston\, NY\, 12401\, United States
GEO:41.928545;-74.004206
X-APPLE-STRUCTURED-LOCATION;VALUE=URI;X-ADDRESS=20 Cedar Street\, Kingston\
 , NY\, 12401\, United States;X-APPLE-RADIUS=100;X-TITLE=Midtown Kingston A
 rts District and the D.R.A.W.:geo:41.928545,-74.004206
END:VEVENT
BEGIN:VTIMEZONE
TZID:America/New_York
X-LIC-LOCATION:America/New_York
BEGIN:STANDARD
DTSTART:20241103T010000
TZOFFSETFROM:-0400
TZOFFSETTO:-0500
TZNAME:EST
END:STANDARD
BEGIN:DAYLIGHT
DTSTART:20250309T030000
TZOFFSETFROM:-0500
TZOFFSETTO:-0400
TZNAME:EDT
END:DAYLIGHT
END:VTIMEZONE
END:VCALENDAR