BEGIN:VCALENDAR
VERSION:2.0
PRODID:-//wp-events-plugin.com//7.2.3.1//EN
TZID:America/New_York
X-WR-TIMEZONE:America/New_York
BEGIN:VEVENT
UID:150724@kingstonhappenings.org
DTSTART;TZID=America/New_York:20250819T180000
DTEND;TZID=America/New_York:20250819T200000
DTSTAMP:20250707T200644Z
URL:https://kingstonhappenings.org/events/lens-learn-one-woman-one-vote/
SUMMARY:Lens &amp\; Learn: One Woman\, One Vote
DESCRIPTION:Join us in honor of Women’s Equality Day—celebrated on Au
 gust 26 to commemorate the 1920 adoption of the Nineteenth Amendment\, 
 which granted women the right to vote.\n&nbsp\;\nWe’ll be screening the
  powerful PBS documentary One Woman\, One Vote\, which chronicles the lon
 g and often overlooked struggle that led to this landmark victory in Ameri
 can democracy.\n&nbsp\;\nPlease note: Due to the film’s length\, the scr
 eening will begin promptly at 6pm. Many documentaries are unrated and may
  not be suitable for teens. No registration needed\, join us in the Meetin
 g Room.\nThe next screening will be Tuesday\, October 21.
ATTACH;FMTTYPE=image/jpeg:https://kingstonhappenings.org/wp-content/upload
 s/2025/07/One-Woman-One-Vote-KHAP.png
CATEGORIES:@Featured,Community,Educational classes and lectures,For
 seniors,History,Movies
LOCATION:Kingston Library\, 61 Crown St\, Kingston\, NY\, 12401\, United St
 ates
GEO:41.934381;-74.021982
X-APPLE-STRUCTURED-LOCATION;VALUE=URI;X-ADDRESS=61 Crown St\, Kingston\, NY
 \, 12401\, United States;X-APPLE-RADIUS=100;X-TITLE=Kingston Library:geo:4
 1.934381,-74.021982
END:VEVENT
BEGIN:VTIMEZONE
TZID:America/New_York
X-LIC-LOCATION:America/New_York
BEGIN:DAYLIGHT
DTSTART:20250309T030000
TZOFFSETFROM:-0500
TZOFFSETTO:-0400
TZNAME:EDT
END:DAYLIGHT
END:VTIMEZONE
END:VCALENDAR