BEGIN:VCALENDAR
VERSION:2.0
PRODID:-//wp-events-plugin.com//7.2.3.1//EN
TZID:America/New_York
X-WR-TIMEZONE:America/New_York
BEGIN:VEVENT
UID:156427@kingstonhappenings.org
DTSTART;TZID=America/New_York:20260425T150000
DTEND;TZID=America/New_York:20260425T180000
DTSTAMP:20260422T183718Z
URL:https://kingstonhappenings.org/events/legendary-drummer-carmine-appice
 -ozzy-beck-rod-steward-vanilla-fudge-drum-clinic/
SUMMARY:Legendary Drummer Carmine Appice\, (Ozzy\, Beck\, Rod Steward\, Van
 illa Fudge) Drum Clinic
DESCRIPTION:Drumming Icon Carmine Appice\, Who’s Played with Ozzy Osbourn
 e\, Rod Stewart &amp\; Jeff Beck\, Appears Live in Kingston This Saturday\
 n\nKingston\, NY  April 22\, 2026 - This Saturday\, April 25\, Planet Wo
 odstock Music will host a rare\, up-close appearance by legendary drummer 
 Carmine Appice\, whose career spans some of the biggest names in rock hist
 ory\, including Ozzy Osbourne\, Rod Stewart\, Jeff Beck\, and members of P
 ink Floyd.\n\nBest known as the driving force behind Vanilla Fudge and 
 Cactus\, Appice is widely credited with helping shape modern hard rock and
  heavy metal drumming. His influence reaches generations of players\, and 
 his résumé reads like a blueprint of platinum-era rock.\n\nThis exclusiv
 e Drum Clinic + Q&amp\;A offers a rare opportunity to experience Appice 
 live in an intimate setting featuring:\n\n 	Live demonstrations of his sig
 nature techniques\n 	Stories from decades touring and recording at the hig
 hest level\n 	Direct audience Q&amp\;A with one of rock’s most recorded 
 drummers\n\nEvent Details:\nWhat: Up Close with Rock Legend Carmine Appic
 e - Drum Clinic + Q&amp\;A\nWhen: Saturday\, April 25\, 2026 | 4:00 PM\nW
 here: Planet Woodstock Music - Kingston\, NY\nTickets: Available now on 
 Eventbrite\n\nThis is not a large venue show\, it’s a close-range\, lim
 ited-capacity experience designed for real players and serious fans.\n\nT
 ickets are limited and expected to sell out.\n\nFor tickets and more infor
 mation:\nhttps://www.eventbrite.com/e/up-close-with-rock-legend-carmine-ap
 pice-drum-clinic-qa-kingston-ny-tickets-1985454859933\n\nAbout Planet Wood
 stock Music\nOpen for 16 years in Kingston\, we just moved to a bigger loc
 ation on Ulster Ave. Planet Woodstock Music is a Kingston-based music shop
  focused on building a strong local music community through gear\, educati
 on\, and great experiences.\n\nCarmine will be giving an interview on WDST
  tomorrow morning at 8:30 am.
ATTACH;FMTTYPE=image/jpeg:https://kingstonhappenings.org/wp-content/upload
 s/2026/04/APRIL-25th-@-Planet-Woodstock-1.png
CATEGORIES:@Featured,@Newsletter,Music,Nightlife and entertainment
LOCATION:Planet Woodstock Music\, 1104 Ulster Ave. \, Kingston\, New York\,
  12401\, United States
GEO:41.962803;-73.992526
X-APPLE-STRUCTURED-LOCATION;VALUE=URI;X-ADDRESS=1104 Ulster Ave. \, Kingsto
 n\, New York\, 12401\, United States;X-APPLE-RADIUS=100;X-TITLE=Planet Woo
 dstock Music:geo:41.962803,-73.992526
END:VEVENT
BEGIN:VTIMEZONE
TZID:America/New_York
X-LIC-LOCATION:America/New_York
BEGIN:DAYLIGHT
DTSTART:20260308T030000
TZOFFSETFROM:-0500
TZOFFSETTO:-0400
TZNAME:EDT
END:DAYLIGHT
END:VTIMEZONE
END:VCALENDAR