BEGIN:VCALENDAR
VERSION:2.0
PRODID:-//wp-events-plugin.com//7.2.3.1//EN
TZID:America/New_York
X-WR-TIMEZONE:America/New_York
BEGIN:VEVENT
UID:152636@kingstonhappenings.org
DTSTART;TZID=America/New_York:20251114T220000
DTEND;TZID=America/New_York:20251114T220000
DTSTAMP:20251110T222142Z
URL:https://kingstonhappenings.org/events/late-night-w-purple-peace-love-w
 ubz/
SUMMARY:LATE NIGHT W/ Purple: PEACE\, LOVE & WUBZ
DESCRIPTION: Step into a trippy kaleidoscope of late-night psychedelic exp
 eriences at the @colonywoodstockny on November 14th\n\n\nWhere the love ch
 ild of Woodstock meets the Wubstep Era and free-love spirits collide with 
 the underground bass revolution.\n\n\n @jesse_d_leach drops the vibes —
 A journey through psychedelic EDM\, dubstep\, tribal dub\, and funk ecstas
 y — weaving sitar\, tabla\, didgeridoo\, native flute\, and eastern-insp
 ired bass into deep\, otherworldly soundscapes for the soul. Psychedelia r
 eborn through bass. Come experience rave euphoria - a trip for the body wi
 th wubby basslines\, psychedelic reimagined remixes of classic Woodstock a
 nthems — Guiding the groove through space with trippy\, deep bass\, whil
 e channeling vintage Woodstock spirit through modern wubz. This is soul mi
 xing nostalgia\, noise\, and nirvana. Dropping the future through echoes o
 f the past.\n\n\n@goddess.purple grooves and glows - the psychedelic godde
 ss brings the flow — blending aerial alchemy and pole artistry into a li
 ve ritual of movement\, mystique\, and magnetic power- movement inspired b
 y peace\, passion\, and electric dance. Movement is meditation\, flow as f
 reedom. Every spin\, every flight\, is the embodiment of every pulse of li
 ght in motion. Watch the air come alive.\n\n\n Featuring live vocals by @
 emma_nukes channeling the spirit of Woodstock’s golden age singing class
 ics with soul\, passion\, and psychedelic elegance — from Janis to Jeffe
 rson Airplane\, reborn for the modern stage. Live\, raw\, and radiating ea
 r candy for all to indulge.\n\n\n Vintage vibes\, modern drops\nLet go. T
 une in. Drop wubz.\n\n\n Peace. Passion. Psychedelia.\n Dance in the glo
 w.\n Lose yourself in the WUBZ.\n Find your freedom in the flow.\n\n\n 
 Where flower power grows sub-bass roots.\nA night of love\, bass\, and mag
 ic.\nOld-school spirit. New-age sound.\n\n\nFriday\, November 14th | 10:30
 PM\n Colony\, Woodstock NY
ATTACH;FMTTYPE=image/jpeg:https://kingstonhappenings.org/wp-content/upload
 s/2025/11/567669826_1462612382330986_8643852107779087849_n.jpg
CATEGORIES:@Featured,@Newsletter,Music,Nightlife and entertainment
LOCATION:Colony Woodstock NY\, 22 Rock City Rd\, Woodstock\, New York\, Uni
 ted States
GEO:42.0424924;-74.11799489999999
X-APPLE-STRUCTURED-LOCATION;VALUE=URI;X-ADDRESS=22 Rock City Rd\, Woodstock
 \, New York\, United States;X-APPLE-RADIUS=100;X-TITLE=Colony Woodstock NY
 :geo:42.0424924,-74.11799489999999
END:VEVENT
BEGIN:VTIMEZONE
TZID:America/New_York
X-LIC-LOCATION:America/New_York
BEGIN:STANDARD
DTSTART:20251102T010000
TZOFFSETFROM:-0400
TZOFFSETTO:-0500
TZNAME:EST
END:STANDARD
END:VTIMEZONE
END:VCALENDAR