BEGIN:VCALENDAR
VERSION:2.0
PRODID:-//wp-events-plugin.com//7.2.3.1//EN
TZID:America/New_York
X-WR-TIMEZONE:America/New_York
BEGIN:VEVENT
UID:155807@kingstonhappenings.org
DTSTART;TZID=America/New_York:20260312T190000
DTEND;TZID=America/New_York:20260312T190000
DTSTAMP:20260309T132619Z
URL:https://kingstonhappenings.org/events/ladies-of-the-valley-present-a-t
 ribute-to-joni-mitchell/
SUMMARY:Ladies of the Valley Present: A Tribute to Joni Mitchell
DESCRIPTION:Ladies of the Valley are bringing it back to where it all start
 ed with our second annual tribute to our queen\, Joni Mitchell! Join us as
  we play through our beloved Joni favorites\, spanning her catalog of both
  deep cuts and hits. Magic is always in store when a group of Joni lovers 
 get in a room together. Come be part of the magic on March 12\, 2026 at Co
 lony Woodstock.
ATTACH;FMTTYPE=image/jpeg:https://kingstonhappenings.org/wp-content/upload
 s/2026/03/602385007_1543545400904350_1053292768553713832_n.jpg
CATEGORIES:@Featured,@Newsletter,Music,Nightlife and entertainment
LOCATION:Colony Woodstock NY\, 22 Rock City Rd\, Woodstock\, New York\, Uni
 ted States
GEO:42.0424924;-74.11799489999999
X-APPLE-STRUCTURED-LOCATION;VALUE=URI;X-ADDRESS=22 Rock City Rd\, Woodstock
 \, New York\, United States;X-APPLE-RADIUS=100;X-TITLE=Colony Woodstock NY
 :geo:42.0424924,-74.11799489999999
END:VEVENT
BEGIN:VTIMEZONE
TZID:America/New_York
X-LIC-LOCATION:America/New_York
BEGIN:DAYLIGHT
DTSTART:20260308T030000
TZOFFSETFROM:-0500
TZOFFSETTO:-0400
TZNAME:EDT
END:DAYLIGHT
END:VTIMEZONE
END:VCALENDAR