BEGIN:VCALENDAR
VERSION:2.0
PRODID:-//wp-events-plugin.com//7.2.3.1//EN
TZID:America/New_York
X-WR-TIMEZONE:America/New_York
BEGIN:VEVENT
UID:152812@kingstonhappenings.org
DTSTART;TZID=America/New_York:20251128T190000
DTEND;TZID=America/New_York:20251128T190000
DTSTAMP:20251124T192439Z
URL:https://kingstonhappenings.org/events/la-pucelle-adventure/
SUMMARY:La Pucelle + Adventure
DESCRIPTION:La Pucelle is a rock band born on the streets of Manhattan’s 
 East Village\, where four artists from across the world came together to c
 reate music both timeless and unmistakably original\; one that brings back
  Rock ’n’ Roll in its purest spirit\, while hitting the audience with 
 a trademark sound and a cinematic vibe.\n\n\nThis rock quartet feels like 
 a set of characters pulled from a Jim Jarmusch film or a Spaghetti Horror.
  They inject the room with jolts of energy and infectious hooks that reviv
 e the dead and take the living on a surreal Rock ’n’ Roll journey.
ATTACH;FMTTYPE=image/jpeg:https://kingstonhappenings.org/wp-content/upload
 s/2025/11/556110582_1444860837439474_7773598646547022048_n-1.jpg
CATEGORIES:@Featured,@Newsletter,Music,Nightlife and entertainment
LOCATION:Colony Woodstock NY\, 22 Rock City Rd\, Woodstock\, New York\, Uni
 ted States
GEO:42.0424924;-74.11799489999999
X-APPLE-STRUCTURED-LOCATION;VALUE=URI;X-ADDRESS=22 Rock City Rd\, Woodstock
 \, New York\, United States;X-APPLE-RADIUS=100;X-TITLE=Colony Woodstock NY
 :geo:42.0424924,-74.11799489999999
END:VEVENT
BEGIN:VTIMEZONE
TZID:America/New_York
X-LIC-LOCATION:America/New_York
BEGIN:STANDARD
DTSTART:20251102T010000
TZOFFSETFROM:-0400
TZOFFSETTO:-0500
TZNAME:EST
END:STANDARD
END:VTIMEZONE
END:VCALENDAR