BEGIN:VCALENDAR
VERSION:2.0
PRODID:-//wp-events-plugin.com//7.2.3.1//EN
TZID:America/New_York
X-WR-TIMEZONE:America/New_York
BEGIN:VEVENT
UID:153244@kingstonhappenings.org
DTSTART;TZID=America/New_York:20251227T140000
DTEND;TZID=America/New_York:20251227T200000
DTSTAMP:20251229T185042Z
URL:https://kingstonhappenings.org/events/kwanzaa-2025/
SUMMARY:KWANZAA 2025
DESCRIPTION:*SAVE THE DATE*\nHarambee Kingston NYand Center For Creative Ed
 ucation(CCE) present:\nKWANZAA 2025 - “Coming Together Of The People”.
 \nSATURDAY\, DECEMBER 27th2pm - 8pm.\nHosted at The Center For Creative Ed
 ucation (CCE)16 Cedar Street\, Kingston\, NY\nJoin us for a day of communi
 ty celebration and ceremony.FREE! Everyone Is Welcome.\n*** Call For Vendo
 rs***Vendor information and registration is available until December 20th 
 at https://docs.google.com/.../1FAIpQLSekVyPZR1dOdf.../viewform\nFor more
  information visit www.HarambeeKingstonNY.org\n————Thank you for 
 supporting HarambeeKingstonNY.org free programs and events.Your DONATION
  Is Appreciated. Ase!
ATTACH;FMTTYPE=image/jpeg:https://kingstonhappenings.org/wp-content/upload
 s/2025/12/599930484_1300599268773742_5545269200163237894_n.jpg
CATEGORIES:@Featured,@Newsletter,Community,Music,Nightlife and
 entertainment
LOCATION:Center for Creative Education\, 16 Cedar St. \, Kingston \, NY\, 1
 2401\, United States
GEO:41.929305;-74.001983
X-APPLE-STRUCTURED-LOCATION;VALUE=URI;X-ADDRESS=16 Cedar St. \, Kingston \,
  NY\, 12401\, United States;X-APPLE-RADIUS=100;X-TITLE=Center for Creative
  Education:geo:41.929305,-74.001983
END:VEVENT
BEGIN:VTIMEZONE
TZID:America/New_York
X-LIC-LOCATION:America/New_York
BEGIN:STANDARD
DTSTART:20251102T010000
TZOFFSETFROM:-0400
TZOFFSETTO:-0500
TZNAME:EST
END:STANDARD
END:VTIMEZONE
END:VCALENDAR