BEGIN:VCALENDAR
VERSION:2.0
PRODID:-//wp-events-plugin.com//7.2.3.1//EN
TZID:America/New_York
X-WR-TIMEZONE:America/New_York
BEGIN:VEVENT
UID:152631@kingstonhappenings.org
DTSTART;TZID=America/New_York:20251119T190000
DTEND;TZID=America/New_York:20251119T211500
DTSTAMP:20251110T124451Z
URL:https://kingstonhappenings.org/events/knives-out/
SUMMARY:Knives Out
DESCRIPTION:The Six Bells &amp\; Rosendale Theatre Present: Cozy With a Cha
 nce of Murder \n\nThe evening begins with a $50 prix fixe dinner at The Fe
 athers Tavern\, followed by a cozy murder mystery screening for $10 at The
  Rosendale Theatre. An autumn supper followed by dimmed lights\, and an ev
 ening of mystery—$60 in total. Dinner reservations are available via Res
 y. Click the RSVP button to make your reservation today. Standalone ticket
 s can be purchased directly through this page.\n\nAbout the Movie: When re
 nowned crime novelist Harlan Thrombey is found dead at his estate just aft
 er his 85th birthday\, the inquisitive and debonair Detective Benoit Blanc
  is mysteriously enlisted to investigate. From Harlan’s dysfunctional fa
 mily to his devoted staff\, Blanc sifts through a web of red herrings and 
 self-serving lies to uncover the truth behind Harlan’s untimely death.\n
 \nStarring: Ana de Armas\, Chris Evans\, Daniel Craig\, Jamie Lee Curtis\,
  Michael Shannon\n\nWhen renowned crime novelist Harlan Thrombey is found 
 dead at his estate just after his 85th birthday\, the inquisitive and debo
 nair Detective Benoit Blanc investigates.\n\nThe Six Bells &amp\; Rosendal
 e Theatre Present: An autumn supper followed by dimmed lights\, and an eve
 ning of mystery—$60 in total. Dinner reservations are available via Resy
 . Click the RSVP button to make your reservation today. Standalone tickets
  can be purchased directly through this page.\n\nStarring: Ana de Armas\, 
 Chris Evans\, Daniel Craig\, Jamie Lee Curtis\, Michael Shannon
ATTACH;FMTTYPE=image/jpeg:https://kingstonhappenings.org/wp-content/upload
 s/2025/11/knives-out-smallest.png
CATEGORIES:@Featured,Movies
LOCATION:Rosendale Theater\, 408 Main St\, Rosendale\, New York\, 12472\, U
 nited States
GEO:41.8441401;-74.0821133
X-APPLE-STRUCTURED-LOCATION;VALUE=URI;X-ADDRESS=408 Main St\, Rosendale\, N
 ew York\, 12472\, United States;X-APPLE-RADIUS=100;X-TITLE=Rosendale Theat
 er:geo:41.8441401,-74.0821133
END:VEVENT
BEGIN:VTIMEZONE
TZID:America/New_York
X-LIC-LOCATION:America/New_York
BEGIN:STANDARD
DTSTART:20251102T010000
TZOFFSETFROM:-0400
TZOFFSETTO:-0500
TZNAME:EST
END:STANDARD
END:VTIMEZONE
END:VCALENDAR