BEGIN:VCALENDAR
VERSION:2.0
PRODID:-//wp-events-plugin.com//7.2.3.1//EN
TZID:America/New_York
X-WR-TIMEZONE:America/New_York
BEGIN:VEVENT
UID:156110@kingstonhappenings.org
DTSTART;TZID=America/New_York:20260403T193000
DTEND;TZID=America/New_York:20260403T203000
DTSTAMP:20260402T130358Z
URL:https://kingstonhappenings.org/events/kira-metcalf-with-guests-honeycr
 ush-the-grackles-and-stimmerman/
SUMMARY:Kira Metcalf\, with guests Honeycrush\, The Grackles\, and Stimmerm
 an
DESCRIPTION:Kira Metcalf + Honeycrush are combining the dark forces of got
 hic grunge on their first regional split tour to promote their latest rele
 ases: Honeycrush's Dogwoods EP + Kira Metcalf debut album Lessons in Maje
 stic Humiliation. 
ATTACH;FMTTYPE=image/jpeg:https://kingstonhappenings.org/wp-content/upload
 s/2026/04/Screenshot-2026-04-02-090053.png
CATEGORIES:@Featured,@Newsletter,Music,Nightlife and entertainment
LOCATION:Rough Draft Bar & Books\, 82 John Street\, Kingston \, New York\, 
 12401\, United States
GEO:41.9334999;-74.02122020000002
X-APPLE-STRUCTURED-LOCATION;VALUE=URI;X-ADDRESS=82 John Street\, Kingston \
 , New York\, 12401\, United States;X-APPLE-RADIUS=100;X-TITLE=Rough Draft 
 Bar & Books:geo:41.9334999,-74.02122020000002
END:VEVENT
BEGIN:VTIMEZONE
TZID:America/New_York
X-LIC-LOCATION:America/New_York
BEGIN:DAYLIGHT
DTSTART:20260308T030000
TZOFFSETFROM:-0500
TZOFFSETTO:-0400
TZNAME:EDT
END:DAYLIGHT
END:VTIMEZONE
END:VCALENDAR