BEGIN:VCALENDAR
VERSION:2.0
PRODID:-//wp-events-plugin.com//7.2.3.1//EN
TZID:America/New_York
X-WR-TIMEZONE:America/New_York
BEGIN:VEVENT
UID:152793@kingstonhappenings.org
DTSTART;TZID=America/New_York:20251206T110000
DTEND;TZID=America/New_York:20251206T150000
DTSTAMP:20251201T191705Z
URL:https://kingstonhappenings.org/events/kingston-repair-cafe-2/
SUMMARY:Kingston Repair Cafe
DESCRIPTION:Our next Kingston Repair Café is Saturday\, December 6th from 
 11am to 3pm at Redeemer Lutheran Church\, 104 Wurts St. Bring a beloved bu
 t broken item to be fixed for free: bicycles\, computers\, clothing\, elec
 tric &amp\; acoustic guitars\, electrical &amp\; mechanical devices\, jewe
 lry\, sewing machine repair\, wooden objects\, metal repairs (including we
 lding &amp\; mower blade repair)\, and zippers.\n\nCan’t make it? Check 
 out repaircafehv.org for Repair Cafes across the Hudson Valley. This event
  is free and open to the public but you register when you check in.\n\nP.S
 . There is a parking lot across the street. Our event is in the basement\,
  enter through the glass door on the left side of the building and walk do
 wn the steps and through the middle blue door. If you need elevator access
 \, there is an old-fashioned elevator around the other side of the church 
 and you'll need to close the gate for the elevator to work (and then close
  it again so it can go back up when called). Someone from the cafe can hel
 p you get bulky items down to the cafe!
ATTACH;FMTTYPE=image/jpeg:https://kingstonhappenings.org/wp-content/upload
 s/2025/11/KRC-small.png
CATEGORIES:@Featured,@Newsletter,Community
LOCATION:Redeemer Lutheran Church\, 104 Wurts Street\, Kingston\, New York\
 , United States
GEO:41.9208248;-73.9883443
X-APPLE-STRUCTURED-LOCATION;VALUE=URI;X-ADDRESS=104 Wurts Street\, Kingston
 \, New York\, United States;X-APPLE-RADIUS=100;X-TITLE=Redeemer Lutheran C
 hurch:geo:41.9208248,-73.9883443
END:VEVENT
BEGIN:VTIMEZONE
TZID:America/New_York
X-LIC-LOCATION:America/New_York
BEGIN:STANDARD
DTSTART:20251102T010000
TZOFFSETFROM:-0400
TZOFFSETTO:-0500
TZNAME:EST
END:STANDARD
END:VTIMEZONE
END:VCALENDAR