BEGIN:VCALENDAR
VERSION:2.0
PRODID:-//wp-events-plugin.com//7.2.3.1//EN
TZID:America/New_York
X-WR-TIMEZONE:America/New_York
BEGIN:VEVENT
UID:152311@kingstonhappenings.org
DTSTART;TZID=America/New_York:20251019T160000
DTEND;TZID=America/New_York:20251019T160000
DTSTAMP:20251013T133527Z
URL:https://kingstonhappenings.org/events/kingston-jazz-jam/
SUMMARY:Kingston Jazz Jam
DESCRIPTION:Fall in love with jazz at our next exciting jam. We've assemble
 d another fabulous house band: Bill Beveridge\, keys\; Eric Marshall\, bas
 s\; April\, drums. Vocalists and instrumentalist are welcome to join in wi
 th. Our loyal listeners always marvel at how great the music is and how mu
 ch fun it is to be in this intimate and welcoming listening room.
ATTACH;FMTTYPE=image/jpeg:https://kingstonhappenings.org/wp-content/upload
 s/2025/10/558969161_737411342676534_7414655568255768345_n.jpg
CATEGORIES:@Featured,@Newsletter,Music,Nightlife and entertainment
LOCATION:Chromatic Studios\, 71 O'Neil St. \, Kingston\, NY\, 12401\, Unite
 d States
GEO:41.932209;-74.003624
X-APPLE-STRUCTURED-LOCATION;VALUE=URI;X-ADDRESS=71 O'Neil St. \, Kingston\,
  NY\, 12401\, United States;X-APPLE-RADIUS=100;X-TITLE=Chromatic Studios:g
 eo:41.932209,-74.003624
END:VEVENT
BEGIN:VTIMEZONE
TZID:America/New_York
X-LIC-LOCATION:America/New_York
BEGIN:DAYLIGHT
DTSTART:20250309T030000
TZOFFSETFROM:-0500
TZOFFSETTO:-0400
TZNAME:EDT
END:DAYLIGHT
END:VTIMEZONE
END:VCALENDAR