BEGIN:VCALENDAR
VERSION:2.0
PRODID:-//wp-events-plugin.com//7.2.3.1//EN
TZID:America/New_York
X-WR-TIMEZONE:America/New_York
BEGIN:VEVENT
UID:155040@kingstonhappenings.org
DTSTART;TZID=America/New_York:20260130T140000
DTEND;TZID=America/New_York:20260130T180000
DTSTAMP:20260131T014311Z
URL:https://kingstonhappenings.org/events/kingston-in-solidarity-with-immi
 grants-minnesota/
SUMMARY:Kingston in Solidarity with Immigrants &amp\; Minnesota
DESCRIPTION:Friday\, 12/30\n\n2-6PM\, 420 Broadway\n\nMarch @ 5PM\n\n&nbsp\
 ;\n\nOur community is gathering to demand ALL elected officials denounce a
 nd legislate withdrawal of federal ICE/CBP agents from New York and Minnes
 ota.\n\nWarm drinks\, hats and gloves (limited) and warming spaces will be
  available. Feel free to bring snacks\, drinks\, clothes or blankets to sh
 are!\n\n&nbsp\;\n\nWe protect our community members. Immigrants are import
 ant members of our community. ICE out of schools! Abolish ICE! Keep ICE ha
 nds off our children and students! Solidarity with our neighbors against f
 ascism!
ATTACH;FMTTYPE=image/jpeg:https://kingstonhappenings.org/wp-content/upload
 s/2026/01/1.jpg
CATEGORIES:@Featured,Community,Festivals and major community events
LOCATION:Kingston City Hall\, 420 Broadway\, Kingston\, NY\, 12401\, United
  States
GEO:41.927142;-73.99617
X-APPLE-STRUCTURED-LOCATION;VALUE=URI;X-ADDRESS=420 Broadway\, Kingston\, N
 Y\, 12401\, United States;X-APPLE-RADIUS=100;X-TITLE=Kingston City Hall:ge
 o:41.927142,-73.99617
END:VEVENT
BEGIN:VTIMEZONE
TZID:America/New_York
X-LIC-LOCATION:America/New_York
BEGIN:STANDARD
DTSTART:20251102T010000
TZOFFSETFROM:-0400
TZOFFSETTO:-0500
TZNAME:EST
END:STANDARD
END:VTIMEZONE
END:VCALENDAR