BEGIN:VCALENDAR
VERSION:2.0
PRODID:-//wp-events-plugin.com//7.2.3.1//EN
TZID:America/New_York
X-WR-TIMEZONE:America/New_York
BEGIN:VEVENT
UID:156027@kingstonhappenings.org
DTSTART;TZID=America/New_York:20260411T150000
DTEND;TZID=America/New_York:20260411T160000
DTSTAMP:20260406T230102Z
URL:https://kingstonhappenings.org/events/kids-eco-films/
SUMMARY:Kids Eco-films
DESCRIPTION:In celebration of Kingston school district's first "plastic fre
 e lunch day" coming on Earth Day\, the Junior Climate Action Team and King
 ston School's Green Team presents short environmental videos on plastic po
 llution. Free from 3-4 pm with snacks and crafts.
ATTACH;FMTTYPE=image/jpeg:https://kingstonhappenings.org/wp-content/upload
 s/2026/03/Kids-Eco-Film-Screening_4-11-26.png
CATEGORIES:@Featured,@Newsletter,For kids
LOCATION:Unitarian Universalist Congregation of the Catskills\, 474 Broadwa
 y\, Kingston\, NY\, United States
GEO:41.927593;-73.998771
X-APPLE-STRUCTURED-LOCATION;VALUE=URI;X-ADDRESS=474 Broadway\, Kingston\, N
 Y\, United States;X-APPLE-RADIUS=100;X-TITLE=Unitarian Universalist Congre
 gation of the Catskills:geo:41.927593,-73.998771
END:VEVENT
BEGIN:VTIMEZONE
TZID:America/New_York
X-LIC-LOCATION:America/New_York
BEGIN:DAYLIGHT
DTSTART:20260308T030000
TZOFFSETFROM:-0500
TZOFFSETTO:-0400
TZNAME:EDT
END:DAYLIGHT
END:VTIMEZONE
END:VCALENDAR