BEGIN:VCALENDAR
VERSION:2.0
PRODID:-//wp-events-plugin.com//7.2.3.1//EN
TZID:America/New_York
X-WR-TIMEZONE:America/New_York
BEGIN:VEVENT
UID:153342@kingstonhappenings.org
DTSTART;TZID=America/New_York:20260117T190000
DTEND;TZID=America/New_York:20260117T200000
DTSTAMP:20260112T151206Z
URL:https://kingstonhappenings.org/events/key-of-q-its-about-time/
SUMMARY:Key of Q: It\\'s About Time!
DESCRIPTION:Please join Key of Q\, the region’s most vibrant LGBTQ+ &amp\
 ; allied a cappella ensemble\, as we celebrate a decade of harmony\, pride
 \, and community. Through inventive vocal arrangements and storytelling\, 
 we explore the many ways we experience the elasticity of time - how we spe
 nd it\, save it\, waste it\, and watch it fly.\nThis year marks our 10th a
 nniversary as a chorus\, and our time together has been time very well spe
 nt. Key of Q has built a family where every voice matters and every unique
  identity is celebrated. We honor the past that has shaped us\, stand toge
 ther in the present against the forces that would divide us\, and move for
 ward into a future strengthened by community\, courage\, and connection. I
 t’s about harmony. It’s about belonging. It’s About Time. 
ATTACH;FMTTYPE=image/jpeg:https://kingstonhappenings.org/wp-content/upload
 s/2026/01/1.91-1-Landscape-resized.jpg
CATEGORIES:@Featured,@Newsletter,Community,Music
LOCATION:Hudson Valley LGBTQ Community Center\, 300 Wall St\, Kingston\, NY
 \, 12401\, United States
GEO:41.933956;-74.019463
X-APPLE-STRUCTURED-LOCATION;VALUE=URI;X-ADDRESS=300 Wall St\, Kingston\, NY
 \, 12401\, United States;X-APPLE-RADIUS=100;X-TITLE=Hudson Valley LGBTQ Co
 mmunity Center:geo:41.933956,-74.019463
END:VEVENT
BEGIN:VTIMEZONE
TZID:America/New_York
X-LIC-LOCATION:America/New_York
BEGIN:STANDARD
DTSTART:20251102T010000
TZOFFSETFROM:-0400
TZOFFSETTO:-0500
TZNAME:EST
END:STANDARD
END:VTIMEZONE
END:VCALENDAR