BEGIN:VCALENDAR
VERSION:2.0
PRODID:-//wp-events-plugin.com//7.2.3.1//EN
TZID:America/New_York
X-WR-TIMEZONE:America/New_York
BEGIN:VEVENT
UID:156387@kingstonhappenings.org
DTSTART;TZID=America/New_York:20260421T173000
DTEND;TZID=America/New_York:20260421T173000
DTSTAMP:20260420T164318Z
URL:https://kingstonhappenings.org/events/keegan-armys-mobile-forces-ride/
SUMMARY:Keegan Army's Mobile Forces Ride
DESCRIPTION:Join the Keegan Army's Mobile Forces (cycling) for a weekly Tue
 sday evening ride.\nThis week: The Ashokan Rail Trail.\nStart and end at R
 t. 28 West Hurley Parking. We will ride west to the Shokan parking area an
 d then back\, about 12 miles. As always\, new riders are welcome and BYOB!
 \nPS-Runners and walkers welcome too!
ATTACH;FMTTYPE=image/jpeg:https://kingstonhappenings.org/wp-content/upload
 s/2026/04/671650877_1783418289587071_6524594464152136149_n.jpg
CATEGORIES:@Featured,@Newsletter,@Weekly Pick,Community,Sports and
 recreation
LOCATION:Kingston\, NY\, 1 FakeStreetNameSoCheckDetail\, Kingston\, NY\, 12
 401\, United States
GEO:41.9270367;-73.99736080000002
X-APPLE-STRUCTURED-LOCATION;VALUE=URI;X-ADDRESS=1 FakeStreetNameSoCheckDeta
 il\, Kingston\, NY\, 12401\, United States;X-APPLE-RADIUS=100;X-TITLE=King
 ston\, NY:geo:41.9270367,-73.99736080000002
END:VEVENT
BEGIN:VTIMEZONE
TZID:America/New_York
X-LIC-LOCATION:America/New_York
BEGIN:DAYLIGHT
DTSTART:20260308T030000
TZOFFSETFROM:-0500
TZOFFSETTO:-0400
TZNAME:EDT
END:DAYLIGHT
END:VTIMEZONE
END:VCALENDAR